Workbook

Sheet FTR - Results
G2: Results Tracker: KPI Dashboard | H2: Start Bank (Points) | I2: 100 | J2: Current Bank (Points) | K2: =N37+I2 -> 82.3704 | L2: Total Points Staked | N2: =I37 -> 120
H3: Start Date | I3: 45748 | J3: PnL (Points +/-) | K3: =K2-I2 -> -17.6296 | L3: Return on Investment (ROI) | N3: =K3/N2*100 -> -14.691333
H4: Active Days | I4: 30 | J4: Bank Growth (%) | K4: =K3/I2*100 -> -17.6296 | L4: Return on Capital (ROC) | N4: =K3/I2*100 -> -17.6296
B6: Day | C6: Date | D6: Comp | E6: Match | F6: Market | G6: Selection | H6: Price | I6: Points | J6: FT Result | K6: W/D/L | L6: Points (+/-) | M6: BF Comm | N6: Total Points
B7: 1 | C7: =I3 -> 45748 | D7: PRL | E7: Wolves v West Ham | F7: BTTS | G7: Yes | H7: 1.95 | I7: 4 | J7: 1-0 | K7: L | L7: =IF(K7="w",(H7-1)*I7,-I7) -> -4 | M7: =IF(K7="w",(L7/100*2),0) -> 0 | N7: =L7-M7 -> -4
B8: 2 | C8: =C7+1 -> 45749 | D8: PRL | E8: Man City v Leicester City | F8: Asian Handicap | G8: Man City -2 | H8: 1.95 | I8: 4 | J8: 2-0 | K8: D | L8: 0 | M8: =IF(K8="w",(L8/100*2),0) -> 0 | N8: =L8-M8 -> 0
B9: 3 | C9: =C8+1 -> 45750 | D9: PRL | E9: Chelsea v Tottenham | F9: Match Odds & O/U 2.5 | G9: Chelsea / Over | H9: 2.26 | I9: 4 | J9: 1-0 | K9: L | L9: =IF(K9="w",(H9-1)*I9,-I9) -> -4 | M9: =IF(K9="w",(L9/100*2),0) -> 0 | N9: =L9-M9 -> -4
B10: 4 | C10: =C9+1 -> 45751 | D10: SEA | E10: Genoa v Udinese | F10: Match Odds | G10: Draw | H10: 3.05 | I10: 4 | J10: 1-0 | K10: L | L10: =IF(K10="w",(H10-1)*I10,-I10) -> -4 | M10: =IF(K10="w",(L10/100*2),0) -> 0 | N10: =L10-M10 -> -4
B11: 5 | C11: =C10+1 -> 45752 | D11: PRL | E11: Aston Villa v Notts Forest | F11: BTTS | G11: Yes | H11: 1.8 | I11: 4 | J11: 2-1 | K11: W | L11: =IF(K11="w",(H11-1)*I11,-I11) -> 3.2 | M11: =IF(K11="w",(L11/100*2),0) -> 0.064 | N11: =L11-M11 -> 3.136
B12: 6 | C12: =C11+1 -> 45753 | D12: PRL | E12: Fulham v Liverpool | F12: Match Odds & O/U 2.5 | G12: Liverpool / Over | H12: 3 | I12: 4 | J12: 3-2 | K12: L | L12: =IF(K12="w",(H12-1)*I12,-I12) -> -4 | M12: =IF(K12="w",(L12/100*2),0) -> 0 | N12: =L12-M12 -> -4
B13: 7 | C13: =C12+1 -> 45754 | D13: PRL | E13: Leicester v Newcastle Utd | F13: Match Odds & O/U 3.5 | G13: Newcastle / Under | H13: 2.32 | I13: 4 | J13: 0-3 | K13: W | L13: =IF(K13="w",(H13-1)*I13,-I13) -> 5.28 | M13: =IF(K13="w",(L13/100*2),0) -> 0.1056 | N13: =L13-M13 -> 5.1744
B14: 8 | C14: =C13+1 -> 45755 | D14: UCL | E14: Arsenal v Real Madrid | F14: BTTS | G14: Yes | H14: 1.83 | I14: 4 | J14: 3-0 | K14: L | L14: =IF(K14="w",(H14-1)*I14,-I14) -> -4 | M14: =IF(K14="w",(L14/100*2),0) -> 0 | N14: =L14-M14 -> -4
B15: 9 | C15: =C14+1 -> 45756 | D15: UCL | E15: PSG v Aston Villa | F15: Match Odds & O/U 2.5 | G15: PSG / Over | H15: 1.96 | I15: 4 | J15: 3-1 | K15: W | L15: =IF(K15="w",(H15-1)*I15,-I15) -> 3.84 | M15: =IF(K15="w",(L15/100*2),0) -> 0.0768 | N15: =L15-M15 -> 3.7632
B16: 10 | C16: =C15+1 -> 45757 | D16: UEL | E16: Lyon v Manchester Utd | F16: Match Odds | G16: Draw | H16: 3.4 | I16: 4 | J16: 2-2 | K16: W | L16: =IF(K16="w",(H16-1)*I16,-I16) -> 9.6 | M16: =IF(K16="w",(L16/100*2),0) -> 0.192 | N16: =L16-M16 -> 9.408
B17: 11 | C17: =C16+1 -> 45758 | D17: SEA | E17: Udinese v AC Milan | F17: Match Odds | G17: AC Milan | H17: 2.02 | I17: 4 | J17: 0-4 | K17: W | L17: =IF(K17="w",(H17-1)*I17,-I17) -> 4.08 | M17: =IF(K17="w",(L17/100*2),0) -> 0.0816 | N17: =L17-M17 -> 3.9984
B18: 12 | C18: =C17+1 -> 45759 | D18: PRL | E18: Notts Forest v Everton | F18: Match Odds | G18: Forest | H18: 2.08 | I18: 4 | J18: 0-1 | K18: L | L18: =IF(K18="w",(H18-1)*I18,-I18) -> -4 | M18: =IF(K18="w",(L18/100*2),0) -> 0 | N18: =L18-M18 -> -4
B19: 13 | C19: =C18+1 -> 45760 | D19: PRL | E19: Wolves v Tottenham | F19: Match Odds | G19: Wolves | H19: 2.4 | I19: 4 | J19: 4-2 | K19: W | L19: =IF(K19="w",(H19-1)*I19,-I19) -> 5.6 | M19: =IF(K19="w",(L19/100*2),0) -> 0.112 | N19: =L19-M19 -> 5.488
B20: 14 | C20: =C19+1 -> 45761 | D20: PRL | E20: Bournemouth v Fulham | F20: O/U 2.5 goals | G20: Over | H20: 1.84 | I20: 4 | J20: 1-0 | K20: L | L20: =IF(K20="w",(H20-1)*I20,-I20) -> -4 | M20: =IF(K20="w",(L20/100*2),0) -> 0 | N20: =L20-M20 -> -4
... B36: 30 | C36: =C35+1 -> 45777 | D36: UCL | E36: Barcelona v Inter Milan | F36: Asian Handicap | G36: Barcelona -1 | H36: 2.12 | I36: 4 | J36: 3-3 | K36: L | L36: =IF(K36="w",(H36-1)*I36,-I36) -> -4 | M36: =IF(K36="w",(L36/100*2),0) -> 0 | N36: =L36-M36 -> -4
I37: =SUM(I7:I36) -> 120 | J37: Pts Staked | K37: PnL | L37: =SUM(L7:L36) -> -16.52 | M37: =SUM(M7:M36) -> 1.1096 | N37: =L37-M37 -> -17.6296

Sheet FTR - Chart
B2: FOOTBALL TRADING ROOM - APRIL 2025: DAILY RESULTS
B4: Day | C4: Day Points: Profit / Loss | D4: Accumulated Points
B5: 0 | C5: 0 | D5: 0
B6: 1 | C6: ='FTR - Results'!N7 -> -4 | D6: =D5+C6 -> -4
B7: 2 | C7: ='FTR - Results'!N8 -> 0 | D7: =D6+C7 -> -4
B8: 3 | C8: ='FTR - Results'!N9 -> -4 | D8: =D7+C8 -> -8
B9: 4 | C9: ='FTR - Results'!N10 -> -4 | D9: =D8+C9 -> -12
B10: 5 | C10: ='FTR - Results'!N11 -> 3.136 | D10: =D9+C10 -> -8.864
B11: 6 | C11: ='FTR - Results'!N12 -> -4 | D11: =D10+C11 -> -12.864
B12: 7 | C12: ='FTR - Results'!N13 -> 5.1744 | D12: =D11+C12 -> -7.6896
B13: 8 | C13: ='FTR - Results'!N14 -> -4 | D13: =D12+C13 -> -11.6896
B14: 9 | C14: ='FTR - Results'!N15 -> 3.7632 | D14: =D13+C14 -> -7.9264
B15: 10 | C15: ='FTR - Results'!N16 -> 9.408 | D15: =D14+C15 -> 1.4816
B16: 11 | C16: ='FTR - Results'!N17 -> 3.9984 | D16: =D15+C16 -> 5.48
B17: 12 | C17: ='FTR - Results'!N18 -> -4 | D17: =D16+C17 -> 1.48
... B35: 30 | C35: ='FTR - Results'!N36 -> -4 | D35: =D34+C35 -> -17.6296

Sheet PGX5 - Results
G2: Record Tracking & Stake Calculation | H2: Start Bank (£) | I2: 1000 | N2: Current Bank (£) | O2: =O36 -> 1070.3651
H3: Start Date | I3: ='FTR - Results'!I3 -> 45748 | N3: Growth (£) | O3: =O2-I2 -> 70.36511
H4: Days # | I4: 30 | N4: Increase (%) | O4: =SUM(O2-I2)/I2*100 -> 7.036511
B6: Day | C6: Date | D6: Comp | E6: Match | F6: Market | G6: Selection | H6: Price | I6: Stake | J6: Result | K6: W/L/D | L6: Start Bank | M6: PnL | N6: BF Comm. | O6: End Bank
B7: 1 | C7: =I3 -> 45748 | D7: PRL | E7: Nottingham Forest v Man Utd | F7: Draw No Bet | G7: Nottingham Forest | H7: 1.71 | I7: =L7/16.5 -> 60.606061 | J7: 1-0 | K7: W | L7: =I2 -> 1000 | M7: =IF(K7="w",(H7-1)*I7,-I7) -> 43.030303 | N7: =IF(K7="w",(M7/100*2),0) -> 0.86060606 | O7: =L7+M7 -> 1043.0303
B8: 2 | C8: =C7+1 -> 45749 | D8: PRL | E8: Newcastle v Brentford | F8: Match Odds | G8: Newcastle | H8: 1.78 | I8: =L8/16.5 -> 63.213958 | J8: 2-1 | K8: W | L8: =O7 -> 1043.0303 | M8: =IF(K8="w",(H8-1)*I8,-I8) -> 49.306887 | N8: =IF(K8="w",(M8/100*2),0) -> 0.98613774 | O8: =L8+M8 -> 1092.3372
B9: 3 | C9: =C8+1 -> 45750 | D9: PRL | E9: Chelsea v Tottenham | F9: Match Odds | G9: Chelsea | H9: 1.73 | I9: =L9/16.5 -> 66.202254 | J9: 1-0 | K9: W | L9: =O8 -> 1092.3372 | M9: =IF(K9="w",(H9-1)*I9,-I9) -> 48.327645 | N9: =IF(K9="w",(M9/100*2),0) -> 0.96655291 | O9: =L9+M9 -> 1140.6648
B10: 4 | C10: =C9+1 -> 45751 | D10: BUN | E10: Augsburg v Bayen Munich | F10: BTTS | G10: Yes | H10: 1.88 | I10: =L10/16.5 -> 69.131202 | J10: 1-3 | K10: W | L10: =O9 -> 1140.6648 | M10: =IF(K10="w",(H10-1)*I10,-I10) -> 60.835458 | N10: =IF(K10="w",(M10/100*2),0) -> 1.2167092 | O10: =L10+M10 -> 1201.5003
B11: 5 | C11: =C10+1 -> 45752 | D11: SEA | E11: AC Milan v Fiorentina | F11: BTTS | G11: Yes | H11: 1.75 | I11: =L11/16.5 -> 72.8182 | J11: 2-2 | K11: W | L11: =O10 -> 1201.5003 | M11: =IF(K11="w",(H11-1)*I11,-I11) -> 54.61365 | N11: =IF(K11="w",(M11/100*2),0) -> 1.092273 | O11: =L11+M11 -> 1256.1139
B12: 6 | C12: =C11+1 -> 45753 | D12: SEA | E12: Atalanta v Lazio | F12: O/U 2.5 goals | G12: Over | H12: 1.92 | I12: =L12/16.5 -> 76.128118 | J12: 0-1 | K12: L | L12: =O11 -> 1256.1139 | M12: =IF(K12="w",(H12-1)*I12,-I12) -> -76.128118 | N12: =IF(K12="w",(M12/100*2),0) -> 0 | O12: =L12+M12 -> 1179.9858
B13: 7 | C13: =C12+1 -> 45754 | D13: PRL | E13: Leicester City v Newcastle Utd | F13: Asian Handicap | G13: Newcastle -1 | H13: 1.8 | I13: =L13/16.5 -> 71.514292 | J13: 0-3 | K13: W | L13: =O12 -> 1179.9858 | M13: =IF(K13="w",(H13-1)*I13,-I13) -> 57.211434 | N13: =IF(K13="w",(M13/100*2),0) -> 1.1442287 | O13: =L13+M13 -> 1237.1973
B14: 8 | C14: =C13+1 -> 45755 | D14: UCL | E14: Bayern Munich v Inter Milan | F14: BTTS | G14: Yes | H14: 1.8 | I14: =L14/16.5 -> 74.981652 | J14: 1-2 | K14: W | L14: =O13 -> 1237.1973 | M14: =IF(K14="w",(H14-1)*I14,-I14) -> 59.985322 | N14: =IF(K14="w",(M14/100*2),0) -> 1.1997064 | O14: =L14+M14 -> 1297.1826
B15: 9 | C15: =C14+1 -> 45756 | D15: UCL | E15: PSG v Aston Villa | F15: BTTS | G15: Yes | H15: 1.81 | I15: =L15/16.5 -> 78.617126 | J15: 3-1 | K15: W | L15: =O14 -> 1297.1826 | M15: =IF(K15="w",(H15-1)*I15,-I15) -> 63.679872 | N15: =IF(K15="w",(M15/100*2),0) -> 1.2735974 | O15: =L15+M15 -> 1360.8625
B16: 10 | C16: =C15+1 -> 45757 | D16: UEL | E16: Bodo/Glimt v Lazio | F16: O/U 2.5 goals | G16: Over | H16: 1.9 | I16: =L16/16.5 -> 82.476512 | J16: 2-0 | K16: L | L16: =O15 -> 1360.8625 | M16: =IF(K16="w",(H16-1)*I16,-I16) -> -82.476512 | N16: =IF(K16="w",(M16/100*2),0) -> 0 | O16: =L16+M16 -> 1278.3859
B17: 11 | C17: =C16+1 -> 45758 | D17: CHA | E17: Burnley v Norwich City | F17: Match Odds | G17: Burnley | H17: 1.65 | I17: =L17/16.5 -> 77.477936 | J17: 2-1 | K17: W | L17: =O16 -> 1278.3859 | M17: =IF(K17="w",(H17-1)*I17,-I17) -> 50.360658 | N17: =IF(K17="w",(M17/100*2),0) -> 1.0072132 | O17: =L17+M17 -> 1328.7466
B18: 12 | C18: =C17+1 -> 45759 | D18: PRL | E18: Arsenal v Brentford | F18: O/U 2.5 goals | G18: Over | H18: 1.83 | I18: =L18/16.5 -> 80.530097 | J18: 1-1 | K18: L | L18: =O17 -> 1328.7466 | M18: =IF(K18="w",(H18-1)*I18,-I18) -> -80.530097 | N18: =IF(K18="w",(M18/100*2),0) -> 0 | O18: =L18+M18 -> 1248.2165
B19: 13 | C19: =C18+1 -> 45760 | D19: PRL | E19: Newcastle v Manchester Utd | F19: Match Odds | G19: Newcastle | H19: 1.71 | I19: =L19/16.5 -> 75.649485 | J19: 4-1 | K19: W | L19: =O18 -> 1248.2165 | M19: =IF(K19="w",(H19-1)*I19,-I19) -> 53.711134 | N19: =IF(K19="w",(M19/100*2),0) -> 1.0742227 | O19: =L19+M19 -> 1301.9276
... B36: 30 | C36: =C35+1 -> 45777 | D36: UCL | E36: Barcelona v Inter Milan | F36: Match Odds | G36: Barcelona | H36: 1.68 | I36: =L36/16.5 -> 69.055814 | J36: 3-3 | K36: L | L36: =O35 -> 1139.4209 | M36: =IF(K36="w",(H36-1)*I36,-I36) -> -69.055814 | N36: =IF(K36="w",(M36/100*2),0) -> 0 | O36: =L36+M36 -> 1070.3651

Sheet PGX5 - CHART
B2: PRO-GENIE X5 - 'MONTH' 2025: DAILY RESULTS
B4: Day | C4: Profit / Loss (£) | D4: Acc Bank (£)
B5: 0 | C5: 0 | D5: 0
B6: 1 | C6: ='PGX5 - Results'!M7 -> 43.030303 | D6: =D5+C6 -> 43.030303
B7: 2 | C7: ='PGX5 - Results'!M8 -> 49.306887 | D7: =D6+C7 -> 92.33719
B8: 3 | C8: ='PGX5 - Results'!M9 -> 48.327645 | D8: =D7+C8 -> 140.66484
B9: 4 | C9: ='PGX5 - Results'!M10 -> 60.835458 | D9: =D8+C9 -> 201.50029
B10: 5 | C10: ='PGX5 - Results'!M11 -> 54.61365 | D10: =D9+C10 -> 256.11394
B11: 6 | C11: ='PGX5 - Results'!M12 -> -76.128118 | D11: =D10+C11 -> 179.98583
B12: 7 | C12: ='PGX5 - Results'!M13 -> 57.211434 | D12: =D11+C12 -> 237.19726
B13: 8 | C13: ='PGX5 - Results'!M14 -> 59.985322 | D13: =D12+C13 -> 297.18258
B14: 9 | C14: ='PGX5 - Results'!M15 -> 63.679872 | D14: =D13+C14 -> 360.86245
B15: 10 | C15: ='PGX5 - Results'!M16 -> -82.476512 | D15: =D14+C15 -> 278.38594
B16: 11 | C16: ='PGX5 - Results'!M17 -> 50.360658 | D16: =D15+C16 -> 328.7466
B17: 12 | C17: ='PGX5 - Results'!M18 -> -80.530097 | D17: =D16+C17 -> 248.2165
... B35: 30 | C35: ='PGX5 - Results'!M36 -> -69.055814 | D35: =D34+C35 -> 70.36511

Sheet PXCS - Results
E2: PR0-XCS Results Tracker: KPI Dashboard | F2: Start Bank (Points) | G2: 50 | H2: End Bank (Points) | I2: =L156+G2 -> 80.43946 | J2: Total Points Staked | L2: =G156 -> 48.779
F3: Start Date | G3: 45748 | H3: PnL (Points +/-) | I3: =I2-G2 -> 30.43946 | J3: Return on Investment (ROI) | L3: =I3/L2*100 -> 62.402796
F4: Active Days | G4: 30 | H4: Bank Growth (%) | I4: =I3/G2*100 -> 60.87892 | J4: Return on Capital (ROC) | L4: =I3/G2*100 -> 60.87892
B6: Date | C6: Comp | D6: Match | E6: PXCS Prediction | F6: Price | G6: Points | H6: FT Result | I6: W/D/L | J6: Points (+/-) | K6: Comm (2%) | L6: Total Points
B8: 45748
B9: =G3 -> 45748 | C9: PRL | D9: Wolves v West Ham | E9: 1-1 | F9: 6.8 | G9: 0.333 | H9: 1-0 | I9: L | J9: =IF(I9="w",(F9-1)*G9,-G9) -> -0.333 | K9: =IF(I9="w",(J9/100*2),0) -> 0 | L9: =J9-K9 -> -0.333
E10: 1-2 | F10: 12.5 | G10: 0.28 | J10: =IF(I10="w",(F10-1)*G10,-G10) -> -0.28 | K10: =IF(I10="w",(J10/100*2),0) -> 0 | L10: =J10-K10 -> -0.28
E11: 2-2 | F11: 18.5 | G11: 0.19 | J11: =IF(I11="w",(F11-1)*G11,-G11) -> -0.19 | K11: =IF(I11="w",(J11/100*2),0) -> 0 | L11: =J11-K11 -> -0.19
C12: PRL | D12: Nottingham Forest v Man Utd | E12: 1-0 | F12: 10 | G12: 0.33 | H12: 1-0 | I12: W | J12: =IF(I12="w",(F12-1)*G12,-G12) -> 2.97 | K12: =IF(I12="w",(J12/100*2),0) -> 0.0594 | L12: =J12-K12 -> 2.9106
E13: 2-0 | F13: 14 | G13: 0.23 | J13: =IF(I13="w",(F13-1)*G13,-G13) -> -0.23 | K13: =IF(I13="w",(J13/100*2),0) -> 0 | L13: =J13-K13 -> -0.23
E14: 1-1 | F14: 7.4 | G14: 0.44 | J14: =IF(I14="w",(F14-1)*G14,-G14) -> -0.44 | K14: =IF(I14="w",(J14/100*2),0) -> 0 | L14: =J14-K14 -> -0.44
B15: =B9+1 -> 45749 | C15: PRL | D15: Newcastle v Brentford | E15: 2-1 | F15: 9.4 | G15: 0.4 | H15: 2-1 | I15: W | J15: =IF(I15="w",(F15-1)*G15,-G15) -> 3.36 | K15: =IF(I15="w",(J15/100*2),0) -> 0.0672 | L15: =J15-K15 -> 3.2928
E16: 2-0 | F16: 11.5 | G16: 0.33 | J16: =IF(I16="w",(F16-1)*G16,-G16) -> -0.33 | K16: =IF(I16="w",(J16/100*2),0) -> 0 | L16: =J16-K16 -> -0.33
E17: 3-1 | F17: 13.5 | G17: 0.28 | J17: =IF(I17="w",(F17-1)*G17,-G17) -> -0.28 | K17: =IF(I17="w",(J17/100*2),0) -> 0 | L17: =J17-K17 -> -0.28
B18: =B15+1 -> 45750 | C18: PRL | D18: Chelsea v Tottenham | E18: 2-1 | F18: 10 | G18: 0.43 | H18: 1-0 | I18: L | J18: =IF(I18="w",(F18-1)*G18,-G18) -> -0.43 | K18: =IF(I18="w",(J18/100*2),0) -> 0 | L18: =J18-K18 -> -0.43
E19: 3-1 | F19: 14 | G19: 0.31 | J19: =IF(I19="w",(F19-1)*G19,-G19) -> -0.31 | K19: =IF(I19="w",(J19/100*2),0) -> 0 | L19: =J19-K19 -> -0.31
E20: 2-2 | F20: 16 | G20: 0.27 | J20: =IF(I20="w",(F20-1)*G20,-G20) -> -0.27 | K20: =IF(I20="w",(J20/100*2),0) -> 0 | L20: =J20-K20 -> -0.27
B21: =B18+1 -> 45751 | C21: SEA | D21: Genoa v Udinese | E21: 1-0 | F21: 7.2 | G21: 0.33 | H21: 1-0 | I21: W | J21: =IF(I21="w",(F21-1)*G21,-G21) -> 2.046 | K21: =IF(I21="w",(J21/100*2),0) -> 0.04092 | L21: =J21-K21 -> 2.00508
E22: 0-0 | F22: 7.8 | G22: 0.31 | J22: =IF(I22="w",(F22-1)*G22,-G22) -> -0.31 | K22: =IF(I22="w",(J22/100*2),0) -> 0 | L22: =J22-K22 -> -0.31
E23: 1-1 | F23: 6.6 | G23: 0.36 | J23: =IF(I23="w",(F23-1)*G23,-G23) -> -0.36 | K23: =IF(I23="w",(J23/100*2),0) -> 0 | L23: =J23-K23 -> -0.36
C24: BUN | D24: Augsburg v Bayern Munich | E24: 1-3 | F24: 13 | G24: 0.333 | H24: 1-3 | I24: W | J24: =IF(I24="w",(F24-1)*G24,-G24) -> 3.996 | K24: =IF(I24="w",(J24/100*2),0) -> 0.07992 | L24: =J24-K24 -> 3.91608
E25: 1-1 | F25: 10.5 | G25: 0.333 | J25: =IF(I25="w",(F25-1)*G25,-G25) -> -0.333 | K25: =IF(I25="w",(J25/100*2),0) -> 0 | L25: =J25-K25 -> -0.333
E26: 1-2 | F26: 9.8 | G26: 0.333 | J26: =IF(I26="w",(F26-1)*G26,-G26) -> -0.333 | K26: =IF(I26="w",(J26/100*2),0) -> 0 | L26: =J26-K26 -> -0.333
B27: =B21+1 -> 45752 | C27: PRL | D27: Aston Villa v Notts Forest | E27: 2-1 | F27: 10 | G27: 0.333 | H27: 2-1 | I27: W | J27: =IF(I27="w",(F27-1)*G27,-G27) -> 2.997 | K27: =IF(I27="w",(J27/100*2),0) -> 0.05994 | L27: =J27-K27 -> 2.93706
E28: 1-1 | F28: 8 | G28: 0.333 | J28: =IF(I28="w",(F28-1)*G28,-G28) -> -0.333 | K28: =IF(I28="w",(J28/100*2),0) -> 0 | L28: =J28-K28 -> -0.333
E29: 3-2 | F29: 32 | G29: 0.333 | J29: =IF(I29="w",(F29-1)*G29,-G29) -> -0.333 | K29: =IF(I29="w",(J29/100*2),0) -> 0 | L29: =J29-K29 -> -0.333
B30: =B27+1 -> 45753 | C30: PRL | D30: Fulham v Liverpool | E30: 1-2 | F30: 9.8 | G30: 0.333 | H30: 3-2 | I30: L | J30: =IF(I30="w",(F30-1)*G30,-G30) -> -0.333 | K30: =IF(I30="w",(J30/100*2),0) -> 0 | L30: =J30-K30 -> -0.333
E31: 1-3 | F31: 17 | G31: 0.333 | J31: =IF(I31="w",(F31-1)*G31,-G31) -> -0.333 | K31: =IF(I31="w",(J31/100*2),0) -> 0 | L31: =J31-K31 -> -0.333
E32: 2-3 | F32: 30 | G32: 0.333 | J32: =IF(I32="w",(F32-1)*G32,-G32) -> -0.333 | K32: =IF(I32="w",(J32/100*2),0) -> 0 | L32: =J32-K32 -> -0.333
B33: =B30+1 -> 45754 | C33: PRL | D33: Leicester v Newcastle Utd | E33: 0-3 | F33: 12.5 | G33: 0.333 | H33: 0-3 | I33: W | J33: =IF(I33="w",(F33-1)*G33,-G33) -> 3.8295 | K33: =IF(I33="w",(J33/100*2),0) -> 0.07659 | L33: =J33-K33 -> 3.75291
E34: 0-2 | F34: 8 | G34: 0.333 | J34: =IF(I34="w",(F34-1)*G34,-G34) -> -0.333 | K34: =IF(I34="w",(J34/100*2),0) -> 0 | L34: =J34-K34 -> -0.333
E35: 1-2 | F35: 9.8 | G35: 0.333 | J35: =IF(I35="w",(F35-1)*G35,-G35) -> -0.333 | K35: =IF(I35="w",(J35/100*2),0) -> 0 | L35: =J35-K35 -> -0.333
C36: SEA | D36: Bologna v Napoli | E36: 1-1 | F36: 6.6 | G36: 0.333 | H36: 1-1 | I36: W | J36: =IF(I36="w",(F36-1)*G36,-G36) -> 1.8648 | K36: =IF(I36="w",(J36/100*2),0) -> 0.037296 | L36: =J36-K36 -> 1.827504
E37: 2-1 | F37: 13 | G37: 0.333 | J37: =IF(I37="w",(F37-1)*G37,-G37) -> -0.333 | K37: =IF(I37="w",(J37/100*2),0) -> 0 | L37: =J37-K37 -> -0.333
E38: 2-2 | F38: 20 | G38: 0.333 | J38: =IF(I38="w",(F38-1)*G38,-G38) -> -0.333 | K38: =IF(I38="w",(J38/100*2),0) -> 0 | L38: =J38-K38 -> -0.333
B39: =B33+1 -> 45755 | C39: UCL | D39: Arsenal v Real Madrid | E39: 2-1 | F39: 10 | G39: 0.333 | H39: 3-0 | I39: L | J39: =IF(I39="w",(F39-1)*G39,-G39) -> -0.333 | K39: =IF(I39="w",(J39/100*2),0) -> 0 | L39: =J39-K39 -> -0.333
E40: 1-1 | F40: 7.4 | G40: 0.333 | J40: =IF(I40="w",(F40-1)*G40,-G40) -> -0.333 | K40: =IF(I40="w",(J40/100*2),0) -> 0 | L40: =J40-K40 -> -0.333
E41: 2-2 | F41: 16.5 | G41: 0.333 | J41: =IF(I41="w",(F41-1)*G41,-G41) -> -0.333 | K41: =IF(I41="w",(J41/100*2),0) -> 0 | L41: =J41-K41 -> -0.333
C42: UCL | D42: Bayern v Inter Milan | E42: 0-0 | F42: 14.5 | G42: 0.333 | H42: 1-2 | I42: L | J42: =IF(I42="w",(F42-1)*G42,-G42) -> -0.333 | K42: =IF(I42="w",(J42/100*2),0) -> 0 | L42: =J42-K42 -> -0.333
E43: 1-1 | F43: 8 | G43: 0.333 | J43: =IF(I43="w",(F43-1)*G43,-G43) -> -0.333 | K43: =IF(I43="w",(J43/100*2),0) -> 0 | L43: =J43-K43 -> -0.333
...

Sheet PXCS - CHART
B2: PR0-XCS - APRIL 2025: DAILY RESULTS
B4: Day | C4: Day Points: Profit / Loss | D4: Bank: Acc Points
B5: 0 | C5: 0 | D5: 0
B6: 1 | C6: =SUM('PXCS - Results'!L9:L14) -> 1.4376 | D6: =D5+C6 -> 1.4376
B7: 2 | C7: =SUM('PXCS - Results'!L15:L17) -> 2.6828 | D7: =D6+C7 -> 4.1204
B8: 3 | C8: =SUM('PXCS - Results'!L18:L20) -> -1.01 | D8: =D7+C8 -> 3.1104
B9: 4 | C9: =SUM('PXCS - Results'!L21:L26) -> 4.58516 | D9: =D8+C9 -> 7.69556
B10: 5 | C10: =SUM('PXCS - Results'!L27:L29) -> 2.27106 | D10: =D9+C10 -> 9.96662
B11: 6 | C11: =SUM('PXCS - Results'!L30:L32) -> -0.999 | D11: =D10+C11 -> 8.96762
B12: 7 | C12: =SUM('PXCS - Results'!L33:L38) -> 4.248414 | D12: =D11+C12 -> 13.216034
B13: 8 | C13: =SUM('PXCS - Results'!L39:L44) -> -1.998 | D13: =D12+C13 -> 11.218034
B14: 9 | C14: =SUM('PXCS - Results'!L45:L47) -> 3.08691 | D14: =D13+C14 -> 14.304944
B15: 10 | C15: =SUM('PXCS - Results'!L48:L53) -> 3.2301 | D15: =D14+C15 -> 17.535044
B16: 11 | C16: =SUM('PXCS - Results'!L54:L59) -> 1.141524 | D16: =D15+C16 -> 18.676568
B17: 12 | C17: =SUM('PXCS - Results'!L60:L65) -> -1.998 | D17: =D16+C17 -> 16.678568
B18: 13 | C18: =SUM('PXCS - Results'!L66:L71) -> -1.998 | D18: =D17+C18 -> 14.680568
B19: 14 | C19: =SUM('PXCS - Results'!L72:L77) -> 1.206792 | D19: =D18+C19 -> 15.88736
B20: 15 | C20: =SUM('PXCS - Results'!L78:L83) -> 8.45154 | D20: =D19+C20 -> 24.3389
B21: 16 | C21: =SUM('PXCS - Results'!L84:L86) -> -0.999 | D21: =D20+C21 -> 23.3399
B22: 17 | C22: =SUM('PXCS - Results'!L87:L92) -> 3.2301 | D22: =D21+C22 -> 26.57
B23: 18 | C23: =SUM('PXCS - Results'!L93:L98) -> 0.749916 | D23: =D22+C23 -> 27.319916
B24: 19 | C24: =SUM('PXCS - Results'!L99:L104) -> -1.998 | D24: =D23+C24 -> 25.321916
B25: 20 | C25: =SUM('PXCS - Results'!L105:L110) -> -1.998 | D25: =D24+C25 -> 23.323916
B26: 21 | C26: =SUM('PXCS - Results'!L111:L116) -> 6.4935 | D26: =D25+C26 -> 29.817416
B27: 22 | C27: =SUM('PXCS - Results'!L112:L117) -> 9.698292 | D27: =D26+C27 -> 39.515708
B28: 23 | C28: =SUM('PXCS - Results'!L123:L125) -> -0.999 | D28: =D27+C28 -> 38.516708
B29: 24 | C29: =SUM('PXCS - Results'!L126:L131) -> 2.845152 | D29: =D28+C29 -> 41.36186
B30: 25 | C30: =SUM('PXCS - Results'!L132:L134) -> -0.999 | D30: =D29+C30 -> 40.36286
B31: 26 | C31: =SUM('PXCS - Results'!L135:L137) -> -0.999 | D31: =D30+C31 -> 39.36386
B32: 27 | C32: =SUM('PXCS - Results'!L138:L143) -> 1.206792 | D32: =D31+C32 -> 40.570652
B33: 28 | C33: =SUM('PXCS - Results'!L144:L149) -> -1.998 | D33: =D32+C33 -> 38.572652
B34: 29 | C34: =SUM('PXCS - Results'!L150:L152) -> -0.999 | D34: =D33+C34 -> 37.573652
B35: 30 | C35: =SUM('PXCS - Results'!L153:L155) -> -0.999 | D35: =D34+C35 -> 36.574652
