Workbook

Sheet FTR - Results
G2: Results Tracker: KPI Dashboard | H2: Start Bank (Points) | I2: 100 | J2: End Bank (Points) | K2: =N38+I2 -> 101.0152 | L2: Total Points Staked | N2: =I38 -> 119
H3: Start Date | I3: 45778 | J3: PnL (Points +/-) | K3: =K2-I2 -> 1.0152 | L3: Return on Investment (ROI) | N3: =K3/N2*100 -> 0.85310924
H4: Active Days | I4: 30 | J4: Bank Growth (%) | K4: =K3/I2*100 -> 1.0152 | L4: Return on Capital (ROC) | N4: =K3/I2*100 -> 1.0152
B6: Day | C6: Date | D6: Comp | E6: Match | F6: Market | G6: Selection | H6: Price | I6: Points | J6: FT Result | K6: W/D/L | L6: Points (+/-) | M6: BF Comm | N6: Total Points
B7: 1 | C7: =I3 -> 45778 | D7: UEL | E7: Athletic Bilbao v Man United | F7: Match Odds | G7: Athletic Bilbao | H7: 2.24 | I7: 4 | J7: 0-3 | K7: L | L7: =IF(K7="w",(H7-1)*I7,-I7) -> -4 | M7: =IF(K7="w",(L7/100*2),0) -> 0 | N7: =L7-M7 -> -4
B8: 2 | C8: =C7+1 -> 45779 | D8: PRL | E8: Man City v Woves | F8: Match Odds & BTTS | G8: Man City / Yes | H8: 2.98 | I8: 4 | J8: 1-0 | K8: L | L8: =IF(K8="w",(H8-1)*I8,-I8) -> -4 | M8: =IF(K8="w",(L8/100*2),0) -> 0 | N8: =L8-M8 -> -4
B9: 3 | C9: =C8+1 -> 45780 | D9: PRL | E9: Arsenal v Bournemouth | F9: BTTS | G9: Yes | H9: 1.8 | I9: 4 | J9: 1-2 | K9: W | L9: =IF(K9="w",(H9-1)*I9,-I9) -> 3.2 | M9: =IF(K9="w",(L9/100*2),0) -> 0.064 | N9: =L9-M9 -> 3.136
B10: 4 | C10: =C9+1 -> 45781 | D10: PRL | E10: Brighton v Newcastle Utd | F10: Match Odds | G10: Newcastle | H10: 2.48 | I10: 4 | J10: 1-1 | K10: L | L10: =IF(K10="w",(H10-1)*I10,-I10) -> -4 | M10: =IF(K10="w",(L10/100*2),0) -> 0 | N10: =L10-M10 -> -4
B11: 5 | C11: =C10+1 -> 45782 | D11: PRL | E11: Crystal Palace v Notts Forest | F11: Match Odds | G11: Notts Forest | H11: 3.5 | I11: 4 | J11: 1-1 | K11: L | L11: =IF(K11="w",(H11-1)*I11,-I11) -> -4 | M11: =IF(K11="w",(L11/100*2),0) -> 0 | N11: =L11-M11 -> -4
B12: 6 | C12: =C11+1 -> 45783 | D12: UCL | E12: Inter Milan v Barcelona | F12: O/U 3.5 goals | G12: Over | H12: 2.32 | I12: 4 | J12: 3-3 | K12: W | L12: =IF(K12="w",(H12-1)*I12,-I12) -> 5.28 | M12: =IF(K12="w",(L12/100*2),0) -> 0.1056 | N12: =L12-M12 -> 5.1744
B13: 7 | C13: =C12+1 -> 45784 | D13: UCL | E13: PSG v Arsenal | F13: Match Odds | G13: PSG | H13: 2.28 | I13: 4 | J13: 2-1 | K13: W | L13: =IF(K13="w",(H13-1)*I13,-I13) -> 5.12 | M13: =IF(K13="w",(L13/100*2),0) -> 0.1024 | N13: =L13-M13 -> 5.0176
B14: 8 | C14: =C13+1 -> 45785 | D14: UEL | E14: Man United v Athletic Bilbao | F14: Match Odds | G14: Man United | H14: 2.06 | I14: 4 | J14: 4-1 | K14: W | L14: =IF(K14="w",(H14-1)*I14,-I14) -> 4.24 | M14: =IF(K14="w",(L14/100*2),0) -> 0.0848 | N14: =L14-M14 -> 4.1552
B15: 9 | C15: =C14+1 -> 45786 | D15: CHA | E15: Coventry v Sunderland | F15: Match Odds | G15: Coventry | H15: 2.34 | I15: 4 | J15: 1-2 | K15: L | L15: =IF(K15="w",(H15-1)*I15,-I15) -> -4 | M15: =IF(K15="w",(L15/100*2),0) -> 0 | N15: =L15-M15 -> -4
B16: 10 | C16: =C15+1 -> 45787 | D16: PRL | E16: Southampton vs. Manchester City | F16: Asian Handicap | G16: Man City -2 | H16: 2.1 | I16: 4 | J16: 0-0 | K16: L | L16: 0 | M16: =IF(K16="w",(L16/100*2),0) -> 0 | N16: =L16-M16 -> 0
B17: 11 | C17: =C16+1 -> 45788 | D17: SEA | E17: Napoli vs. Genoa | F17: Asian Handicap | G17: Napoli -1.5 | H17: 2.14 | I17: 4 | J17: 2-2 | K17: L | L17: =IF(K17="w",(H17-1)*I17,-I17) -> -4 | M17: =IF(K17="w",(L17/100*2),0) -> 0 | N17: =L17-M17 -> -4
B18: 12 | C18: =C17+1 -> 45789 | D18: SEA | E18: Atalanta vs. Roma | F18: Match Odds | G18: Draw | H18: 3.55 | I18: 4 | J18: 2-1 | K18: L | L18: =IF(K18="w",(H18-1)*I18,-I18) -> -4 | M18: =IF(K18="w",(L18/100*2),0) -> 0 | N18: =L18-M18 -> -4
B19: 13 | C19: =C18+1 -> 45790 | D19: LAL | E19: Real Sociedad vs. Celta Vigo | F19: O/U 2.5 goals | G19: Over | H19: 2.1 | I19: 4 | J19: 0-1 | K19: L | L19: =IF(K19="w",(H19-1)*I19,-I19) -> -4 | M19: =IF(K19="w",(L19/100*2),0) -> 0 | N19: =L19-M19 -> -4
B20: 14 | C20: =C19+1 -> 45791 | D20: LAL | E20: Deportivo Alavés vs. Valencia | F20: Double Chance | G20: Draw or Away | H20: 1.79 | I20: 3 | J20: 1-0 | K20: L | L20: =IF(K20="w",(H20-1)*I20,-I20) -> -3 | M20: =IF(K20="w",(L20/100*2),0) -> 0 | N20: =L20-M20 -> -3
B21: 15 | C21: =C20+1 -> 45792 | D21: LAL | E21: Rayo Vallecano vs. Real Betis | F21: Match Odds | G21: Real Betis | H21: 2.48 | I21: 4 | J21: 2-2 | K21: L | L21: =IF(K21="w",(H21-1)*I21,-I21) -> -4 | M21: =IF(K21="w",(L21/100*2),0) -> 0 | N21: =L21-M21 -> -4
B22: 16 | C22: =C21+1 -> 45793 | D22: PRL | E22: Aston Villa vs. Tottenham | F22: Asian Handicap | G22: Aston Villa -1.5 | H22: 1.91 | I22: 4 | J22: 2-0 | K22: W | L22: =IF(K22="w",(H22-1)*I22,-I22) -> 3.64 | M22: =IF(K22="w",(L22/100*2),0) -> 0.0728 | N22: =L22-M22 -> 3.5672
B23: 17 | C23: =C22+1 -> 45794 | D23: FAC | E23: Crystal Palace vs Manchester City | F23: MO&O/U 2.5 goals | G23: Man City / Over | H23: 2.96 | I23: 4 | J23: 1-0 | K23: L | L23: =IF(K23="w",(H23-1)*I23,-I23) -> -4 | M23: =IF(K23="w",(L23/100*2),0) -> 0 | N23: =L23-M23 -> -4
B24: 18 | C24: =C23+1 -> 45795 | D24: PRL | E24: Arsenal v Newcastle Utd | F24: Double Chance | G24: Draw or Away | H24: 1.92 | I24: 4 | J24: 1-0 | K24: W | L24: =IF(K24="w",(H24-1)*I24,-I24) -> 3.68 | M24: =IF(K24="w",(L24/100*2),0) -> 0.0736 | N24: =L24-M24 -> 3.6064
B25: 19 | C25: =C24+1 -> 45796 | D25: PRL | E25: Brighton v Liverpool | F25: O/U 3.5 goals | G25: Over | H25: 2.32 | I25: 4 | J25: 3-2 | K25: W | L25: =IF(K25="w",(H25-1)*I25,-I25) -> 5.28 | M25: =IF(K25="w",(L25/100*2),0) -> 0.1056 | N25: =L25-M25 -> 5.1744
B26: 20 | C26: =C25+1 -> 45797 | D26: PRL | E26: Crystal Palace v Wolves | F26: Match Odds | G26: Crystal Palace | H26: 2.68 | I26: 4 | J26: 4-2 | K26: W | L26: =IF(K26="w",(H26-1)*I26,-I26) -> 6.72 | M26: =IF(K26="w",(L26/100*2),0) -> 0.1344 | N26: =L26-M26 -> 6.5856
B27: 21 | C27: =C26+1 -> 45798 | D27: UEL | E27: Tottenham v Man United | F27: Match Odds | G27: Man United | H27: 2.44 | I27: 4 | J27: 1-0 | K27: L | L27: =IF(K27="w",(H27-1)*I27,-I27) -> -4 | M27: =IF(K27="w",(L27/100*2),0) -> 0 | N27: =L27-M27 -> -4
B28: 22 | C28: =C27+1 -> 45799 | D28: No Selection | L28: =IF(K28="w",(H28-1)*I28,-I28) -> 0 | M28: =IF(K28="w",(L28/100*2),0) -> 0 | N28: =L28-M28 -> 0
B29: 23 | C29: =C28+1 -> 45800 | D29: LAL | E29: Real Betis v Valencia | F29: Double Chance | G29: Draw or Away | H29: 2.02 | I29: 4 | J29: 1-1 | K29: W | L29: =IF(K29="w",(H29-1)*I29,-I29) -> 4.08 | M29: =IF(K29="w",(L29/100*2),0) -> 0.0816 | N29: =L29-M29 -> 3.9984
B30: 24 | C30: =C29+1 -> 45801 | D30: SEA | E30: Bologna v Genoa | F30: BTTS | G30: Yes | H30: 1.89 | I30: 4 | J30: 1-3 | K30: W | L30: =IF(K30="w",(H30-1)*I30,-I30) -> 3.56 | M30: =IF(K30="w",(L30/100*2),0) -> 0.0712 | N30: =L30-M30 -> 3.4888
B31: 25 | C31: =C30+1 -> 45802 | D31: PRL | E31: Man United v Aston Villa | F31: Match Odds | G31: Aston Villa | H31: 1.8 | I31: 4 | J31: 2-0 | K31: L | L31: =IF(K31="w",(H31-1)*I31,-I31) -> -4 | M31: =IF(K31="w",(L31/100*2),0) -> 0 | N31: =L31-M31 -> -4
B32: 26 | C32: =C31+1 -> 45803 | D32: BUN | E32: Elversberg v Heidenheim | F32: O/U 2.5 goals | G32: Over | H32: 1.82 | I32: 4 | J32: 1-2 | K32: W | L32: =IF(K32="w",(H32-1)*I32,-I32) -> 3.28 | M32: =IF(K32="w",(L32/100*2),0) -> 0.0656 | N32: =L32-M32 -> 3.2144
B33: 27 | C33: =C32+1 -> 45804 | D33: BUN | E33: Braunschweig v Saarbrucken | F33: O/U 2.5 goals | G33: Under | H33: 2.12 | I33: 4 | J33: 0-2 | K33: W | L33: =IF(K33="w",(H33-1)*I33,-I33) -> 4.48 | M33: =IF(K33="w",(L33/100*2),0) -> 0.0896 | N33: =L33-M33 -> 4.3904
B34: 28 | C34: =C33+1 -> 45805 | D34: UCL | E34: Real Betis v Chelsea | F34: Match Odds | G34: Chelsea | H34: 1.91 | I34: 4 | J34: 1-4 | K34: W | L34: =IF(K34="w",(H34-1)*I34,-I34) -> 3.64 | M34: =IF(K34="w",(L34/100*2),0) -> 0.0728 | N34: =L34-M34 -> 3.5672
B35: 29 | C35: =C34+1 -> 45806 | D35: LI1 | E35: Reims v Metz | F35: O/U 2.5 goals | G35: Over | H35: 2.26 | I35: 4 | J35: 1-3 | K35: L | L35: =IF(K35="w",(H35-1)*I35,-I35) -> -4 | M35: =IF(K35="w",(L35/100*2),0) -> 0 | N35: =L35-M35 -> -4
B36: 30 | C36: =C35+1 -> 45807 | D36: SUP | E36: Antalyaspor v Trabzonspor | F36: Asian Handicap | G36: Antalyaspor 0 | H36: 2.13 | I36: 4 | J36: 0-2 | K36: L | L36: =IF(K36="w",(H36-1)*I36,-I36) -> -4 | M36: =IF(K36="w",(L36/100*2),0) -> 0 | N36: =L36-M36 -> -4
B37: 31 | C37: =C36+1 -> 45808 | D37: UCL | E37: PSG v Inter Milan | F37: Match Odds | G37: PSG | H37: 2.26 | I37: 4 | J37: 5-0 | K37: W | L37: =IF(K37="w",(H37-1)*I37,-I37) -> 5.04 | M37: =IF(K37="w",(L37/100*2),0) -> 0.1008 | N37: =L37-M37 -> 4.9392
I38: =SUM(I7:I37) -> 119 | J38: Pts Staked | K38: PnL | L38: =SUM(L7:L37) -> 2.24 | M38: =SUM(M7:M37) -> 1.2248 | N38: =L38-M38 -> 1.0152

Sheet FTR - Chart
B2: FOOTBALL TRADING ROOM - MAY 2025: DAILY RESULTS
B4: Day | C4: Day Points: Profit / Loss | D4: Bank: Acc Points
B5: 0 | C5: 0 | D5: 0
B6: 1 | C6: ='FTR - Results'!N7 -> -4 | D6: =D5+C6 -> -4
B7: 2 | C7: ='FTR - Results'!N8 -> -4 | D7: =D6+C7 -> -8
B8: 3 | C8: ='FTR - Results'!N9 -> 3.136 | D8: =D7+C8 -> -4.864
B9: 4 | C9: ='FTR - Results'!N10 -> -4 | D9: =D8+C9 -> -8.864
B10: 5 | C10: ='FTR - Results'!N11 -> -4 | D10: =D9+C10 -> -12.864
B11: 6 | C11: ='FTR - Results'!N12 -> 5.1744 | D11: =D10+C11 -> -7.6896
B12: 7 | C12: ='FTR - Results'!N13 -> 5.0176 | D12: =D11+C12 -> -2.672
B13: 8 | C13: ='FTR - Results'!N14 -> 4.1552 | D13: =D12+C13 -> 1.4832
B14: 9 | C14: ='FTR - Results'!N15 -> -4 | D14: =D13+C14 -> -2.5168
B15: 10 | C15: ='FTR - Results'!N16 -> 0 | D15: =D14+C15 -> -2.5168
B16: 11 | C16: ='FTR - Results'!N17 -> -4 | D16: =D15+C16 -> -6.5168
B17: 12 | C17: ='FTR - Results'!N18 -> -4 | D17: =D16+C17 -> -10.5168
... B36: 31 | C36: ='FTR - Results'!N37 -> 4.9392 | D36: =D35+C36 -> 1.0152

Sheet PGX5 - Results
G2: Record Tracking & Stake Calculation | H2: Start Bank (£) | I2: 1000 | N2: Current Bank (£) | O2: =O37 -> 1222.1672
H3: Start Date | I3: ='FTR - Results'!I3 -> 45778 | N3: Growth (£) | O3: =O2-I2 -> 222.16724
H4: Days # | I4: 30 | N4: Increase (%) | O4: =SUM(O2-I2)/I2*100 -> 22.216724
B6: Day | C6: Date | D6: Comp | E6: Match | F6: Market | G6: Selection | H6: Price | I6: Stake | J6: Result | K6: W/L/D | L6: Start Bank | M6: PnL | N6: BF Comm. | O6: End Bank
B7: 1 | C7: =I3 -> 45778 | D7: UEL | E7: Tottenham v Bodo-Glimt | F7: BTTS | G7: Yes | H7: 1.88 | I7: =L7/16.5 -> 60.606061 | J7: 3-1 | K7: W | L7: =I2 -> 1000 | M7: =IF(K7="w",(H7-1)*I7,-I7) -> 53.333333 | N7: =IF(K7="w",(M7/100*2),0) -> 1.0666667 | O7: =L7+M7 -> 1053.3333
B8: 2 | C8: =C7+1 -> 45779 | D8: PRL | E8: Manchester City v Wolves | F8: Half Time | G8: Man City | H8: 1.93 | I8: =L8/16.5 -> 63.838384 | J8: 1-0 | K8: W | L8: =O7 -> 1053.3333 | M8: =IF(K8="w",(H8-1)*I8,-I8) -> 59.369697 | N8: =IF(K8="w",(M8/100*2),0) -> 1.1873939 | O8: =L8+M8 -> 1112.703
B9: 3 | C9: =C8+1 -> 45780 | D9: SEA | E9: Parma v Como | F9: BTTS | G9: Yes | H9: 1.7 | I9: =L9/16.5 -> 67.436547 | J9: 0-1 | K9: L | L9: =O8 -> 1112.703 | M9: =IF(K9="w",(H9-1)*I9,-I9) -> -67.436547 | N9: =IF(K9="w",(M9/100*2),0) -> 0 | O9: =L9+M9 -> 1045.2665
B10: 4 | C10: =C9+1 -> 45781 | D10: SEA | E10: Roma v Fiorentina | F10: Match Odds | G10: Roma | H10: 1.75 | I10: =L10/16.5 -> 63.349484 | J10: 1-0 | K10: W | L10: =O9 -> 1045.2665 | M10: =IF(K10="w",(H10-1)*I10,-I10) -> 47.512113 | N10: =IF(K10="w",(M10/100*2),0) -> 0.95024226 | O10: =L10+M10 -> 1092.7786
B11: 5 | C11: =C10+1 -> 45782 | D11: SEA | E11: Genoa v AC Milan | F11: Match Odds | G11: AC Milan | H11: 1.8 | I11: =L11/16.5 -> 66.229006 | J11: 1-2 | K11: W | L11: =O10 -> 1092.7786 | M11: =IF(K11="w",(H11-1)*I11,-I11) -> 52.983205 | N11: =IF(K11="w",(M11/100*2),0) -> 1.0596641 | O11: =L11+M11 -> 1145.7618
B12: 6 | C12: =C11+1 -> 45783 | D12: UCL | E12: Inter Milan v Barcelona | F12: Draw No Bet | G12: Barcelona | H12: 1.93 | I12: =L12/16.5 -> 69.440109 | J12: 3-3 | K12: D | L12: =O11 -> 1145.7618 | M12: 0 | N12: =IF(K12="w",(M12/100*2),0) -> 0 | O12: =L12+M12 -> 1145.7618
B13: 7 | C13: =C12+1 -> 45784 | D13: UCL | E13: PSG v Arsenal | F13: O/U 2.5 goals | G13: Under | H13: 2.24 | I13: =L13/16.5 -> 69.440109 | J13: 2-1 | K13: L | L13: =O12 -> 1145.7618 | M13: =IF(K13="w",(H13-1)*I13,-I13) -> -69.440109 | N13: =IF(K13="w",(M13/100*2),0) -> 0 | O13: =L13+M13 -> 1076.3217
B14: 8 | C14: =C13+1 -> 45785 | D14: UEL | E14: Bodø/Glimt vs. Tottenham | F14: O/U 2.5 goals | G14: Over | H14: 1.61 | I14: =L14/16.5 -> 65.231618 | J14: 0-2 | K14: L | L14: =O13 -> 1076.3217 | M14: =IF(K14="w",(H14-1)*I14,-I14) -> -65.231618 | N14: =IF(K14="w",(M14/100*2),0) -> 0 | O14: =L14+M14 -> 1011.0901
B15: 9 | C15: =C14+1 -> 45786 | D15: SEA | E15: AC Milan vs Bologna | F15: BTTS | G15: Yes | H15: 1.8 | I15: =L15/16.5 -> 61.278186 | J15: 3-1 | K15: W | L15: =O14 -> 1011.0901 | M15: =IF(K15="w",(H15-1)*I15,-I15) -> 49.022549 | N15: =IF(K15="w",(M15/100*2),0) -> 0.98045098 | O15: =L15+M15 -> 1060.1126
B16: 10 | C16: =C15+1 -> 45787 | D16: PRL | E16: Bournemouth vs Aston Villa | F16: Draw No Bet | G16: Bournemouth | H16: 1.89 | I16: =L16/16.5 -> 64.24925 | J16: 0-1 | K16: L | L16: =O15 -> 1060.1126 | M16: =IF(K16="w",(H16-1)*I16,-I16) -> -64.24925 | N16: =IF(K16="w",(M16/100*2),0) -> 0 | O16: =L16+M16 -> 995.86337
B17: 11 | C17: =C16+1 -> 45788 | D17: SEA | E17: Napoli vs. Genoa | F17: HT | G17: Napoli | H17: 1.94 | I17: =L17/16.5 -> 60.355356 | J17: HT 1-1 | K17: L | L17: =O16 -> 995.86337 | M17: =IF(K17="w",(H17-1)*I17,-I17) -> -60.355356 | N17: =IF(K17="w",(M17/100*2),0) -> 0 | O17: =L17+M17 -> 935.50802
B18: 12 | C18: =C17+1 -> 45789 | D18: SEA | E18: Venezia vs. Fiorentina | F18: BTTS | G18: Yes | H18: 2 | I18: =L18/16.5 -> 56.697456 | J18: 2-1 | K18: W | L18: =O17 -> 935.50802 | M18: =IF(K18="w",(H18-1)*I18,-I18) -> 56.697456 | N18: =IF(K18="w",(M18/100*2),0) -> 1.1339491 | O18: =L18+M18 -> 992.20547
B19: 13 | C19: =C18+1 -> 45790 | D19: LAL | E19: Sevilla v Las Palmas | F19: BTTS | G19: Yes | H19: 2.02 | I19: =L19/16.5 -> 60.133665 | J19: 1-0 | K19: L | L19: =O18 -> 992.20547 | M19: =IF(K19="w",(H19-1)*I19,-I19) -> -60.133665 | N19: =IF(K19="w",(M19/100*2),0) -> 0 | O19: =L19+M19 -> 932.07181
B20: 14 | C20: =C19+1 -> 45791 | D20: COI | E20: AC Milan vs. Bologna | F20: BTTS | G20: Yes | H20: 1.92 | I20: =L20/16.5 -> 56.4892 | J20: 0-1 | K20: L | L20: =O19 -> 932.07181 | M20: =IF(K20="w",(H20-1)*I20,-I20) -> -56.4892 | N20: =IF(K20="w",(M20/100*2),0) -> 0 | O20: =L20+M20 -> 875.58261
B21: 15 | C21: =C20+1 -> 45792 | D21: LAL | E21: Rayo Vallecano v Real Betis | F21: Draw No Bet | G21: Real Betis | H21: 1.76 | I21: =L21/16.5 -> 53.065613 | J21: 2-2 | K21: D | L21: =O20 -> 875.58261 | M21: 0 | N21: =IF(K21="w",(M21/100*2),0) -> 0 | O21: =L21+M21 -> 875.58261
B22: 16 | C22: =C21+1 -> 45793 | D22: PRL | E22: Chelsea v Man United | F22: Asian Handicap | G22: Chelsea -1 | H22: 1.74 | I22: =L22/16.5 -> 53.065613 | J22: 1-0 | K22: D | L22: =O21 -> 875.58261 | M22: 0 | N22: =IF(K22="w",(M22/100*2),0) -> 0 | O22: =L22+M22 -> 875.58261
B23: 17 | C23: =C22+1 -> 45794 | D23: FAC | E23: Crystal Palace v Man City | F23: Match Odds | G23: Man City | H23: 1.94 | I23: =L23/16.5 -> 53.065613 | J23: 1-0 | K23: L | L23: =O22 -> 875.58261 | M23: =IF(K23="w",(H23-1)*I23,-I23) -> -53.065613 | N23: =IF(K23="w",(M23/100*2),0) -> 0 | O23: =L23+M23 -> 822.51699
B24: 18 | C24: =C23+1 -> 45795 | D24: SEA | E24: Roma v AC Milan | F24: Draw No Bet | G24: Roma | H24: 1.76 | I24: =L24/16.5 -> 49.849515 | J24: 3-1 | K24: W | L24: =O23 -> 822.51699 | M24: =IF(K24="w",(H24-1)*I24,-I24) -> 37.885631 | N24: =IF(K24="w",(M24/100*2),0) -> 0.75771263 | O24: =L24+M24 -> 860.40263
B25: 19 | C25: =C24+1 -> 45796 | D25: PRL | E25: Brighton v Liverpool | F25: Draw No Bet | G25: Brighton | H25: 1.84 | I25: =L25/16.5 -> 52.145614 | J25: 3-2 | K25: W | L25: =O24 -> 860.40263 | M25: =IF(K25="w",(H25-1)*I25,-I25) -> 43.802315 | N25: =IF(K25="w",(M25/100*2),0) -> 0.87604631 | O25: =L25+M25 -> 904.20494
B26: 20 | C26: =C25+1 -> 45797 | D26: PRL | E26: Crystal Palace v Wolves | F26: BTTS | G26: Yes | H26: 1.74 | I26: =L26/16.5 -> 54.800299 | J26: 4-2 | K26: W | L26: =O25 -> 904.20494 | M26: =IF(K26="w",(H26-1)*I26,-I26) -> 40.552222 | N26: =IF(K26="w",(M26/100*2),0) -> 0.81104443 | O26: =L26+M26 -> 944.75716
B27: 21 | C27: =C26+1 -> 45798 | D27: UEL | E27: Tottenham vs. Man United | F27: BTTS | G27: Yes | H27: 1.82 | I27: =L27/16.5 -> 57.25801 | J27: 1-0 | K27: L | L27: =O26 -> 944.75716 | M27: =IF(K27="w",(H27-1)*I27,-I27) -> -57.25801 | N27: =IF(K27="w",(M27/100*2),0) -> 0 | O27: =L27+M27 -> 887.49915
B28: 22 | C28: =C27+1 -> 45799 | D28: No Selection | I28: 0 | L28: =O27 -> 887.49915 | M28: =IF(K28="w",(H28-1)*I28,-I28) -> 0 | N28: =IF(K28="w",(M28/100*2),0) -> 0 | O28: =L28+M28 -> 887.49915
B29: 23 | C29: =C28+1 -> 45800 | D29: SEA | E29: Napoli vs. Cagliari | F29: MO & BTTS | G29: Napoli / No | H29: 1.88 | I29: =L29/16.5 -> 53.787827 | J29: 2-0 | K29: W | L29: =O28 -> 887.49915 | M29: =IF(K29="w",(H29-1)*I29,-I29) -> 47.333288 | N29: =IF(K29="w",(M29/100*2),0) -> 0.94666576 | O29: =L29+M29 -> 934.83244
B30: 24 | C30: =C29+1 -> 45801 | D30: SEA | E30: Bologna vs. Genoa | F30: O/U 2.5 goals | G30: Over | H30: 1.75 | I30: =L30/16.5 -> 56.656512 | J30: 1-3 | K30: W | L30: =O29 -> 934.83244 | M30: =IF(K30="w",(H30-1)*I30,-I30) -> 42.492384 | N30: =IF(K30="w",(M30/100*2),0) -> 0.84984767 | O30: =L30+M30 -> 977.32482
B31: 25 | C31: =C30+1 -> 45802 | D31: SEA | E31: Atalanta vs. Parma | F31: BTTS | G31: Yes | H31: 1.67 | I31: =L31/16.5 -> 59.231808 | J31: 2-3 | K31: W | L31: =O30 -> 977.32482 | M31: =IF(K31="w",(H31-1)*I31,-I31) -> 39.685311 | N31: =IF(K31="w",(M31/100*2),0) -> 0.79370622 | O31: =L31+M31 -> 1017.0101
B32: 26 | C32: =C31+1 -> 45803 | D32: BUN | E32: Elversberg vs. FC Heidenheim | F32: BTTS | G32: Yes | H32: 1.68 | I32: =L32/16.5 -> 61.636978 | J32: 1-2 | K32: W | L32: =O31 -> 1017.0101 | M32: =IF(K32="w",(H32-1)*I32,-I32) -> 41.913145 | N32: =IF(K32="w",(M32/100*2),0) -> 0.8382629 | O32: =L32+M32 -> 1058.9233
B33: 27 | C33: =C32+1 -> 45804 | D33: BUN | E33: Braunschweig v Saarbrucken | F33: O/U 2.5 goals | G33: Over | H33: 2.12 | I33: =L33/16.5 -> 64.177169 | J33: 2-2 | K33: W | L33: =O32 -> 1058.9233 | M33: =IF(K33="w",(H33-1)*I33,-I33) -> 71.878429 | N33: =IF(K33="w",(M33/100*2),0) -> 1.4375686 | O33: =L33+M33 -> 1130.8017
B34: 28 | C34: =C33+1 -> 45805 | D34: UCL | E34: Real Betis v Chelsea | F34: BTTS | G34: Yes | H34: 1.85 | I34: =L34/16.5 -> 68.533437 | J34: 1-4 | K34: W | L34: =O33 -> 1130.8017 | M34: =IF(K34="w",(H34-1)*I34,-I34) -> 58.253421 | N34: =IF(K34="w",(M34/100*2),0) -> 1.1650684 | O34: =L34+M34 -> 1189.0551
B35: 29 | C35: =C34+1 -> 45806 | D35: LI1 | E35: Reims v Metz | F35: BTTS | G35: Yes | H35: 1.91 | I35: =L35/16.5 -> 72.063947 | J35: 1-1 | K35: W | L35: =O34 -> 1189.0551 | M35: =IF(K35="w",(H35-1)*I35,-I35) -> 65.578192 | N35: =IF(K35="w",(M35/100*2),0) -> 1.3115638 | O35: =L35+M35 -> 1254.6333
B36: 30 | C36: =C35+1 -> 45807 | D36: SUL | E36: Antalyaspor v Trabzonspor | F36: O/U 2.5 goals | G36: Over | H36: 1.7 | I36: =L36/16.5 -> 76.038383 | J36: 0-2 | K36: L | L36: =O35 -> 1254.6333 | M36: =IF(K36="w",(H36-1)*I36,-I36) -> -76.038383 | N36: =IF(K36="w",(M36/100*2),0) -> 0 | O36: =L36+M36 -> 1178.5949
B37: 31 | C37: =C36+1 -> 45808 | D37: UCL | E37: PSG v Inter Milan | F37: Draw No Bet | G37: PSG | H37: 1.61 | I37: =L37/16.5 -> 71.429996 | J37: 5-0 | K37: W | L37: =O36 -> 1178.5949 | M37: =IF(K37="w",(H37-1)*I37,-I37) -> 43.572298 | N37: =IF(K37="w",(M37/100*2),0) -> 0.87144596 | O37: =L37+M37 -> 1222.1672

Sheet PGX5 - CHART
B2: PRO-GENIE X5 - MAY 2025: DAILY RESULTS
B4: Day | C4: Profit / Loss (£) | D4: Acc Bank (£)
B5: 0 | C5: 0 | D5: 0
B6: 1 | C6: ='PGX5 - Results'!M7 -> 53.333333 | D6: =D5+C6 -> 53.333333
B7: 2 | C7: ='PGX5 - Results'!M8 -> 59.369697 | D7: =D6+C7 -> 112.70303
B8: 3 | C8: ='PGX5 - Results'!M9 -> -67.436547 | D8: =D7+C8 -> 45.266483
B9: 4 | C9: ='PGX5 - Results'!M10 -> 47.512113 | D9: =D8+C9 -> 92.778596
B10: 5 | C10: ='PGX5 - Results'!M11 -> 52.983205 | D10: =D9+C10 -> 145.7618
B11: 6 | C11: ='PGX5 - Results'!M12 -> 0 | D11: =D10+C11 -> 145.7618
B12: 7 | C12: ='PGX5 - Results'!M13 -> -69.440109 | D12: =D11+C12 -> 76.321691
B13: 8 | C13: ='PGX5 - Results'!M14 -> -65.231618 | D13: =D12+C13 -> 11.090074
B14: 9 | C14: ='PGX5 - Results'!M15 -> 49.022549 | D14: =D13+C14 -> 60.112623
B15: 10 | C15: ='PGX5 - Results'!M16 -> -64.24925 | D15: =D14+C15 -> -4.1366271
B16: 11 | C16: ='PGX5 - Results'!M17 -> -60.355356 | D16: =D15+C16 -> -64.491983
B17: 12 | C17: ='PGX5 - Results'!M18 -> 56.697456 | D17: =D16+C17 -> -7.7945275
... B36: 31 | C36: ='PGX5 - Results'!M37 -> 43.572298 | D36: =D35+C36 -> 222.16724

Sheet PXCS - Results
E2: Results Tracker: KPI Dashboard | F2: Start Bank (Points) | G2: 50 | H2: End Bank (Points) | I2: =L145+50 -> 54.0959 | J2: Total Points Staked | L2: =G145 -> 44.955
F3: Start Date | G3: 45778 | H3: PnL (Points +/-) | I3: =I2-G2 -> 4.0959 | J3: Return on Investment (ROI) | L3: =I3/L2*100 -> 9.1111111
F4: # Matches | G4: 45 | H4: Bank Growth (%) | I4: =I3/G2*100 -> 8.1918 | J4: Return on Capital (ROC) | L4: =I3/G2*100 -> 8.1918
B6: Date | C6: Comp | D6: Match | E6: PXCS Prediction | F6: Price | G6: Points | H6: FT Result | I6: W/D/L | J6: Points (+/-) | K6: Comm (2%) | L6: Total Points
B8: 45778
B9: =G3 -> 45778 | C9: UEL | D9: Tottenham v Bodo-Glimt | E9: 3-1 | F9: 11 | G9: 0.333 | H9: 3-1 | I9: W | J9: =IF(I9="w",(F9-1)*G9,-G9) -> 3.33 | K9: =IF(I9="w",(J9/100*2),0) -> 0.0666 | L9: =J9-K9 -> 3.2634
E10: 2-1 | F10: 10 | G10: 0.333 | J10: =IF(I10="w",(F10-1)*G10,-G10) -> -0.333 | K10: =IF(I10="w",(J10/100*2),0) -> 0 | L10: =J10-K10 -> -0.333
E11: 2-2 | F11: 24 | G11: 0.333 | J11: =IF(I11="w",(F11-1)*G11,-G11) -> -0.333 | K11: =IF(I11="w",(J11/100*2),0) -> 0 | L11: =J11-K11 -> -0.333
C12: UEL | D12: Athletic Club v Man United | E12: 2-0 | F12: 11.5 | G12: 0.333 | H12: 0-3 | I12: L | J12: =IF(I12="w",(F12-1)*G12,-G12) -> -0.333 | K12: =IF(I12="w",(J12/100*2),0) -> 0 | L12: =J12-K12 -> -0.333
E13: 2-1 | F13: 10.5 | G13: 0.333 | J13: =IF(I13="w",(F13-1)*G13,-G13) -> -0.333 | K13: =IF(I13="w",(J13/100*2),0) -> 0 | L13: =J13-K13 -> -0.333
E14: 3-1 | F14: 25 | G14: 0.333 | J14: =IF(I14="w",(F14-1)*G14,-G14) -> -0.333 | K14: =IF(I14="w",(J14/100*2),0) -> 0 | L14: =J14-K14 -> -0.333
B15: =B9+1 -> 45779 | C15: SEA | D15: Torino v Venezia | E15: 1-1 | F15: 6.6 | G15: 0.333 | H15: 1-1 | I15: W | J15: =IF(I15="w",(F15-1)*G15,-G15) -> 1.8648 | K15: =IF(I15="w",(J15/100*2),0) -> 0.037296 | L15: =J15-K15 -> 1.827504
E16: 0-1 | F16: 9.8 | G16: 0.333 | J16: =IF(I16="w",(F16-1)*G16,-G16) -> -0.333 | K16: =IF(I16="w",(J16/100*2),0) -> 0 | L16: =J16-K16 -> -0.333
E17: 2-2 | F17: 18.5 | G17: 0.333 | J17: =IF(I17="w",(F17-1)*G17,-G17) -> -0.333 | K17: =IF(I17="w",(J17/100*2),0) -> 0 | L17: =J17-K17 -> -0.333
C18: PRL | D18: Man City v Wolves | E18: 2-1 | F18: 9.4 | G18: 0.333 | H18: 1-0 | I18: L | J18: =IF(I18="w",(F18-1)*G18,-G18) -> -0.333 | K18: =IF(I18="w",(J18/100*2),0) -> 0 | L18: =J18-K18 -> -0.333
E19: 3-1 | F19: 12.5 | G19: 0.333 | J19: =IF(I19="w",(F19-1)*G19,-G19) -> -0.333 | K19: =IF(I19="w",(J19/100*2),0) -> 0 | L19: =J19-K19 -> -0.333
E20: 2-2 | F20: 27 | G20: 0.333 | J20: =IF(I20="w",(F20-1)*G20,-G20) -> -0.333 | K20: =IF(I20="w",(J20/100*2),0) -> 0 | L20: =J20-K20 -> -0.333
B21: =B15+1 -> 45780 | C21: PRL | D21: Arsenal v Bournemouth | E21: 1-1 | F21: 8.6 | G21: 0.333 | H21: 1-2 | I21: L | J21: =IF(I21="w",(F21-1)*G21,-G21) -> -0.333 | K21: =IF(I21="w",(J21/100*2),0) -> 0 | L21: =J21-K21 -> -0.333
E22: 2-1 | F22: 10.5 | G22: 0.333 | J22: =IF(I22="w",(F22-1)*G22,-G22) -> -0.333 | K22: =IF(I22="w",(J22/100*2),0) -> 0 | L22: =J22-K22 -> -0.333
E23: 2-2 | F23: 16 | G23: 0.333 | J23: =IF(I23="w",(F23-1)*G23,-G23) -> -0.333 | K23: =IF(I23="w",(J23/100*2),0) -> 0 | L23: =J23-K23 -> -0.333
C24: SEA | D24: Parma v Como | E24: 1-1 | F24: 8.6 | G24: 0.333 | H24: 0-1 | I24: L | J24: =IF(I24="w",(F24-1)*G24,-G24) -> -0.333 | K24: =IF(I24="w",(J24/100*2),0) -> 0 | L24: =J24-K24 -> -0.333
E25: 2-1 | F25: 10.5 | G25: 0.333 | J25: =IF(I25="w",(F25-1)*G25,-G25) -> -0.333 | K25: =IF(I25="w",(J25/100*2),0) -> 0 | L25: =J25-K25 -> -0.333
E26: 2-2 | F26: 16 | G26: 0.333 | J26: =IF(I26="w",(F26-1)*G26,-G26) -> -0.333 | K26: =IF(I26="w",(J26/100*2),0) -> 0 | L26: =J26-K26 -> -0.333
B27: =B21+1 -> 45781 | C27: PRL | D27: Brighton v Newcastle | E27: 1-2 | F27: 11 | G27: 0.333 | H27: 1-1 | I27: L | J27: =IF(I27="w",(F27-1)*G27,-G27) -> -0.333 | K27: =IF(I27="w",(J27/100*2),0) -> 0 | L27: =J27-K27 -> -0.333
E28: 1-3 | F28: 20 | G28: 0.333 | J28: =IF(I28="w",(F28-1)*G28,-G28) -> -0.333 | K28: =IF(I28="w",(J28/100*2),0) -> 0 | L28: =J28-K28 -> -0.333
E29: 2-2 | F29: 13 | G29: 0.333 | J29: =IF(I29="w",(F29-1)*G29,-G29) -> -0.333 | K29: =IF(I29="w",(J29/100*2),0) -> 0 | L29: =J29-K29 -> -0.333
C30: SEA | D30: Roma v Fiorentina | E30: 1-0 | F30: 7.8 | G30: 0.333 | H30: 1-0 | I30: W | J30: =IF(I30="w",(F30-1)*G30,-G30) -> 2.2644 | K30: =IF(I30="w",(J30/100*2),0) -> 0.045288 | L30: =J30-K30 -> 2.219112
E31: 1-1 | F31: 8.2 | G31: 0.333 | J31: =IF(I31="w",(F31-1)*G31,-G31) -> -0.333 | K31: =IF(I31="w",(J31/100*2),0) -> 0 | L31: =J31-K31 -> -0.333
E32: 2-1 | F32: 9.4 | G32: 0.333 | J32: =IF(I32="w",(F32-1)*G32,-G32) -> -0.333 | K32: =IF(I32="w",(J32/100*2),0) -> 0 | L32: =J32-K32 -> -0.333
B33: =B27+1 -> 45782 | C33: PRL | D33: Crystal Palace v Nottingham Forest | E33: 1-1 | F33: 7.6 | G33: 0.333 | H33: 1-1 | I33: W | J33: =IF(I33="w",(F33-1)*G33,-G33) -> 2.1978 | K33: =IF(I33="w",(J33/100*2),0) -> 0.043956 | L33: =J33-K33 -> 2.153844
E34: 0-2 | F34: 22 | G34: 0.333 | J34: =IF(I34="w",(F34-1)*G34,-G34) -> -0.333 | K34: =IF(I34="w",(J34/100*2),0) -> 0 | L34: =J34-K34 -> -0.333
E35: 0-1 | F35: 14.5 | G35: 0.333 | J35: =IF(I35="w",(F35-1)*G35,-G35) -> -0.333 | K35: =IF(I35="w",(J35/100*2),0) -> 0 | L35: =J35-K35 -> -0.333
C36: SEA | D36: Genoa v AC Milan | E36: 1-2 | F36: 9.4 | G36: 0.333 | H36: 1-2 | I36: W | J36: =IF(I36="w",(F36-1)*G36,-G36) -> 2.7972 | K36: =IF(I36="w",(J36/100*2),0) -> 0.055944 | L36: =J36-K36 -> 2.741256
E37: 0-1 | F37: 9.2 | G37: 0.333 | J37: =IF(I37="w",(F37-1)*G37,-G37) -> -0.333 | K37: =IF(I37="w",(J37/100*2),0) -> 0 | L37: =J37-K37 -> -0.333
E38: 0-2 | F38: 10 | G38: 0.333 | J38: =IF(I38="w",(F38-1)*G38,-G38) -> -0.333 | K38: =IF(I38="w",(J38/100*2),0) -> 0 | L38: =J38-K38 -> -0.333
B39: =B33+1 -> 45783 | C39: UCL | D39: Inter Milan v Barcelona | E39: 2-3 | F39: 25 | G39: 0.333 | H39: 3-3 | I39: L | J39: =IF(I39="w",(F39-1)*G39,-G39) -> -0.333 | K39: =IF(I39="w",(J39/100*2),0) -> 0 | L39: =J39-K39 -> -0.333
E40: 2-2 | F40: 12.5 | G40: 0.333 | J40: =IF(I40="w",(F40-1)*G40,-G40) -> -0.333 | K40: =IF(I40="w",(J40/100*2),0) -> 0 | L40: =J40-K40 -> -0.333
E41: 1-2 | F41: 12 | G41: 0.333 | J41: =IF(I41="w",(F41-1)*G41,-G41) -> -0.333 | K41: =IF(I41="w",(J41/100*2),0) -> 0 | L41: =J41-K41 -> -0.333
B42: =B39+1 -> 45784 | C42: UCL | D42: PSG v Arsenal | E42: 2-1 | F42: 10.5 | G42: 0.333 | H42: 2-1 | I42: W | J42: =IF(I42="w",(F42-1)*G42,-G42) -> 3.1635 | K42: =IF(I42="w",(J42/100*2),0) -> 0.06327 | L42: =J42-K42 -> 3.10023
E43: 1-1 | F43: 8 | G43: 0.333 | J43: =IF(I43="w",(F43-1)*G43,-G43) -> -0.333 | K43: =IF(I43="w",(J43/100*2),0) -> 0 | L43: =J43-K43 -> -0.333
...

Sheet PXCS - CHART
B2: PR0-XCS - MAY 2025: DAILY RESULTS
B4: Day | C4: Day Points: Profit / Loss | D4: Bank: Acc Points
B5: 0 | C5: 0 | D5: 0
B6: 1 | C6: =SUM('PXCS - Results'!L9:L14) -> 1.5984 | D6: =D5+C6 -> 1.5984
B7: 2 | C7: =SUM('PXCS - Results'!L15:L20) -> 0.162504 | D7: =D6+C7 -> 1.760904
B8: 3 | C8: =SUM('PXCS - Results'!L21:L26) -> -1.998 | D8: =D7+C8 -> -0.237096
B9: 4 | C9: =SUM('PXCS - Results'!L27:L32) -> 0.554112 | D9: =D8+C9 -> 0.317016
B10: 5 | C10: =SUM('PXCS - Results'!L33:L38) -> 3.5631 | D10: =D9+C10 -> 3.880116
B11: 6 | C11: =SUM('PXCS - Results'!L39:L41) -> -0.999 | D11: =D10+C11 -> 2.881116
B12: 7 | C12: =SUM('PXCS - Results'!L42:L44) -> 2.43423 | D12: =D11+C12 -> 5.315346
B13: 8 | C13: =SUM('PXCS - Results'!L45:L50) -> -1.998 | D13: =D12+C13 -> 3.317346
B14: 9 | C14: =SUM('PXCS - Results'!L51:L56) -> 2.57742 | D14: =D13+C14 -> 5.894766
B15: 10 | C15: =SUM('PXCS - Results'!L57:L62) -> -1.998 | D15: =D14+C15 -> 3.896766
B16: 11 | C16: =SUM('PXCS - Results'!L63:L65) -> -0.999 | D16: =D15+C16 -> 2.897766
B17: 12 | C17: =SUM('PXCS - Results'!L66:L71) -> 0.227772 | D17: =D16+C17 -> 3.125538
B18: 13 | C18: =SUM('PXCS - Results'!L78:L83) -> 0.227772 | D18: =D17+C18 -> 3.35331
B19: 14 | C19: =SUM('PXCS - Results'!L78:L83) -> 0.227772 | D19: =D18+C19 -> 3.581082
B20: 15 | C20: =SUM('PXCS - Results'!L84:L86) -> -0.999 | D20: =D19+C20 -> 2.582082
B21: 16 | C21: =SUM('PXCS - Results'!L87:L92) -> 1.43523 | D21: =D20+C21 -> 4.017312
B22: 17 | C22: =SUM('PXCS - Results'!L93:L95) -> -0.999 | D22: =D21+C22 -> 3.018312
B23: 18 | C23: =SUM('PXCS - Results'!L96:L101) -> 0.554112 | D23: =D22+C23 -> 3.572424
B24: 19 | C24: =SUM('PXCS - Results'!L102:L104) -> 6.51348 | D24: =D23+C24 -> 10.085904
B25: 20 | C25: =SUM('PXCS - Results'!L105:L107) -> -0.999 | D25: =D24+C25 -> 9.086904
B26: 21 | C26: =SUM('PXCS - Results'!L108:L110) -> -0.999 | D26: =D25+C26 -> 8.087904
B27: 22 | C27: =SUM('PXCS - Results'!L111) -> 0 | D27: =D26+C27 -> 8.087904
B28: 23 | C28: =SUM('PXCS - Results'!L112:L117) -> 2.975688 | D28: =D27+C28 -> 11.063592
B29: 24 | C29: =SUM('PXCS - Results'!L118:L120) -> -0.999 | D29: =D28+C29 -> 10.064592
B30: 25 | C30: =SUM('PXCS - Results'!L121:L126) -> -1.998 | D30: =D29+C30 -> 8.066592
B31: 26 | C31: =SUM('PXCS - Results'!L127:L129) -> 3.25008 | D31: =D30+C31 -> 11.316672
B32: 27 | C32: =SUM('PXCS - Results'!L130:L132) -> -0.999 | D32: =D31+C32 -> 10.317672
B33: 28 | C33: =SUM('PXCS - Results'!L133:L135) -> -0.999 | D33: =D32+C33 -> 9.318672
B34: 29 | C34: =SUM('PXCS - Results'!L136:L138) -> -0.999 | D34: =D33+C34 -> 8.319672
B35: 30 | C35: =SUM('PXCS - Results'!L139:L141) -> -0.999 | D35: =D34+C35 -> 7.320672
B36: 31 | C36: =SUM('PXCS - Results'!L142:L144) -> -0.999 | D36: =D35+C36 -> 6.321672
