Workbook

Sheet FTR - Results
G2: Results Tracker: KPI Dashboard | H2: Start Bank (Points) | I2: 100 | J2: Current Bank (Points) | K2: =N38+I2 -> 100 | L2: Total Points Staked | N2: =I38 -> 0
H3: Start Date | I3: 45998 | J3: PnL (Points +/-) | K3: =K2-I2 -> 0 | L3: Return on Investment (ROI) | N3: =K3/N2*100 -> #DIV/0!
H4: Active Days | I4: =TODAY()-I3+1 -> 1 | J4: Bank Growth (%) | K4: =K3/I2*100 -> 0 | L4: Return on Capital (ROC) | N4: =K3/I2*100 -> 0
B6: Day | C6: Date | D6: Comp | E6: Match | F6: Market | G6: Selection | H6: Price | I6: Points | J6: FT Result | K6: W/D/L | L6: Points (+/-) | M6: BF Comm | N6: Total Points
B7: 1 | C7: =I3 -> 45998 | L7: =IF(K7="w",(H7-1)*I7,-I7) -> 0 | M7: =IF(K7="w",(L7/100*2),0) -> 0 | N7: =L7-M7 -> 0
B8: 2 | C8: =C7+1 -> 45999 | L8: =IF(K8="w",(H8-1)*I8,-I8) -> 0 | M8: =IF(K8="w",(L8/100*2),0) -> 0 | N8: =L8-M8 -> 0
B9: 3 | C9: =C8+1 -> 46000 | L9: =IF(K9="w",(H9-1)*I9,-I9) -> 0 | M9: =IF(K9="w",(L9/100*2),0) -> 0 | N9: =L9-M9 -> 0
B10: 4 | C10: =C9+1 -> 46001 | L10: =IF(K10="w",(H10-1)*I10,-I10) -> 0 | M10: =IF(K10="w",(L10/100*2),0) -> 0 | N10: =L10-M10 -> 0
B11: 5 | C11: =C10+1 -> 46002 | L11: =IF(K11="w",(H11-1)*I11,-I11) -> 0 | M11: =IF(K11="w",(L11/100*2),0) -> 0 | N11: =L11-M11 -> 0
B12: 6 | C12: =C11+1 -> 46003 | L12: =IF(K12="w",(H12-1)*I12,-I12) -> 0 | M12: =IF(K12="w",(L12/100*2),0) -> 0 | N12: =L12-M12 -> 0
B13: 7 | C13: =C12+1 -> 46004 | L13: =IF(K13="w",(H13-1)*I13,-I13) -> 0 | M13: =IF(K13="w",(L13/100*2),0) -> 0 | N13: =L13-M13 -> 0
B14: 8 | C14: =C13+1 -> 46005 | L14: =IF(K14="w",(H14-1)*I14,-I14) -> 0 | M14: =IF(K14="w",(L14/100*2),0) -> 0 | N14: =L14-M14 -> 0
B15: 9 | C15: =C14+1 -> 46006 | L15: =IF(K15="w",(H15-1)*I15,-I15) -> 0 | M15: =IF(K15="w",(L15/100*2),0) -> 0 | N15: =L15-M15 -> 0
B16: 10 | C16: =C15+1 -> 46007 | L16: 0 | M16: =IF(K16="w",(L16/100*2),0) -> 0 | N16: =L16-M16 -> 0
B17: 11 | C17: =C16+1 -> 46008 | L17: =IF(K17="w",(H17-1)*I17,-I17) -> 0 | M17: =IF(K17="w",(L17/100*2),0) -> 0 | N17: =L17-M17 -> 0
B18: 12 | C18: =C17+1 -> 46009 | L18: =IF(K18="w",(H18-1)*I18,-I18) -> 0 | M18: =IF(K18="w",(L18/100*2),0) -> 0 | N18: =L18-M18 -> 0
B19: 13 | C19: =C18+1 -> 46010 | L19: =IF(K19="w",(H19-1)*I19,-I19) -> 0 | M19: =IF(K19="w",(L19/100*2),0) -> 0 | N19: =L19-M19 -> 0
B20: 14 | C20: =C19+1 -> 46011 | L20: =IF(K20="w",(H20-1)*I20,-I20) -> 0 | M20: =IF(K20="w",(L20/100*2),0) -> 0 | N20: =L20-M20 -> 0
B21: 15 | C21: =C20+1 -> 46012 | L21: =IF(K21="w",(H21-1)*I21,-I21) -> 0 | M21: =IF(K21="w",(L21/100*2),0) -> 0 | N21: =L21-M21 -> 0
B22: 16 | C22: =C21+1 -> 46013 | L22: =IF(K22="w",(H22-1)*I22,-I22) -> 0 | M22: =IF(K22="w",(L22/100*2),0) -> 0 | N22: =L22-M22 -> 0
B23: 17 | C23: =C22+1 -> 46014 | L23: =IF(K23="w",(H23-1)*I23,-I23) -> 0 | M23: =IF(K23="w",(L23/100*2),0) -> 0 | N23: =L23-M23 -> 0
B24: 18 | C24: =C23+1 -> 46015 | L24: =IF(K24="w",(H24-1)*I24,-I24) -> 0 | M24: =IF(K24="w",(L24/100*2),0) -> 0 | N24: =L24-M24 -> 0
B25: 19 | C25: =C24+1 -> 46016 | L25: =IF(K25="w",(H25-1)*I25,-I25) -> 0 | M25: =IF(K25="w",(L25/100*2),0) -> 0 | N25: =L25-M25 -> 0
B26: 20 | C26: =C25+1 -> 46017 | L26: =IF(K26="w",(H26-1)*I26,-I26) -> 0 | M26: =IF(K26="w",(L26/100*2),0) -> 0 | N26: =L26-M26 -> 0
B27: 21 | C27: =C26+1 -> 46018 | L27: =IF(K27="w",(H27-1)*I27,-I27) -> 0 | M27: =IF(K27="w",(L27/100*2),0) -> 0 | N27: =L27-M27 -> 0
B28: 22 | C28: =C27+1 -> 46019 | L28: =IF(K28="w",(H28-1)*I28,-I28) -> 0 | M28: =IF(K28="w",(L28/100*2),0) -> 0 | N28: =L28-M28 -> 0
... B37: 31 | C37: =C36+1 -> 46028 | L37: =IF(K37="w",(H37-1)*I37,-I37) -> 0 | M37: =IF(K37="w",(L37/100*2),0) -> 0 | N37: =L37-M37 -> 0
I38: =SUM(I7:I36) -> 0 | J38: Pts Staked | K38: PnL | L38: =SUM(L7:L36) -> 0 | M38: =SUM(M7:M36) -> 0 | N38: =L38-M38 -> 0

Sheet FTR - Chart
B2: FOOTBALL TRADING ROOM - 'MONTH' 2025: DAILY RESULTS
B4: Day | C4: Day Points: Profit / Loss | D4: Bank: Acc Points
B5: 0 | C5: 0 | D5: 0
B6: 1 | C6: ='FTR - Results'!N7 -> 0 | D6: =D5+C6 -> 0
B7: 2 | C7: ='FTR - Results'!N8 -> 0 | D7: =D6+C7 -> 0
B8: 3 | C8: ='FTR - Results'!N9 -> 0 | D8: =D7+C8 -> 0
B9: 4 | C9: ='FTR - Results'!N10 -> 0 | D9: =D8+C9 -> 0
B10: 5 | C10: ='FTR - Results'!N11 -> 0 | D10: =D9+C10 -> 0
B11: 6 | C11: ='FTR - Results'!N12 -> 0 | D11: =D10+C11 -> 0
B12: 7 | C12: ='FTR - Results'!N13 -> 0 | D12: =D11+C12 -> 0
B13: 8 | C13: ='FTR - Results'!N14 -> 0 | D13: =D12+C13 -> 0
B14: 9 | C14: ='FTR - Results'!N15 -> 0 | D14: =D13+C14 -> 0
B15: 10 | C15: ='FTR - Results'!N16 -> 0 | D15: =D14+C15 -> 0
B16: 11 | C16: ='FTR - Results'!N17 -> 0 | D16: =D15+C16 -> 0
B17: 12 | C17: ='FTR - Results'!N18 -> 0 | D17: =D16+C17 -> 0
... B36: 31 | C36: ='FTR - Results'!N37 -> 0 | D36: =D35+C36 -> 0

Sheet PGX5 - Results
G2: Record Tracking & Stake Calculation | H2: Start Bank (£) | I2: 1000 | N2: Current Bank (£) | O2: =O37 -> 939.39394
H3: Start Date | I3: ='FTR - Results'!I3 -> 45998 | N3: Growth (£) | O3: =O2-I2 -> -60.606061
H4: Days # | I4: =TODAY()-I3+1 -> 1 | N4: Increase (%) | O4: =SUM(O2-I2)/I2*100 -> -6.0606061
B6: Day | C6: Date | D6: Comp | E6: Match | F6: Market | G6: Selection | H6: Price | I6: Stake | J6: Result | K6: W/L/D | L6: Start Bank | M6: PnL | N6: BF Comm. | O6: End Bank
B7: 1 | C7: =I3 -> 45998 | I7: =L7/16.5 -> 60.606061 | L7: =I2 -> 1000 | M7: =IF(K7="w",(H7-1)*I7,-I7) -> -60.606061 | N7: =IF(K7="w",(M7/100*2),0) -> 0 | O7: =L7+M7-N7 -> 939.39394
B8: 2 | C8: =C7+1 -> 45999 | L8: =O7 -> 939.39394 | M8: =IF(K8="w",(H8-1)*I8,-I8) -> 0 | N8: =IF(K8="w",(M8/100*2),0) -> 0 | O8: =L8+M8-N8 -> 939.39394
B9: 3 | C9: =C8+1 -> 46000 | L9: =O8 -> 939.39394 | M9: =IF(K9="w",(H9-1)*I9,-I9) -> 0 | N9: =IF(K9="w",(M9/100*2),0) -> 0 | O9: =L9+M9-N9 -> 939.39394
B10: 4 | C10: =C9+1 -> 46001 | L10: =O9 -> 939.39394 | M10: =IF(K10="w",(H10-1)*I10,-I10) -> 0 | N10: =IF(K10="w",(M10/100*2),0) -> 0 | O10: =L10+M10-N10 -> 939.39394
B11: 5 | C11: =C10+1 -> 46002 | L11: =O10 -> 939.39394 | M11: =IF(K11="w",(H11-1)*I11,-I11) -> 0 | N11: =IF(K11="w",(M11/100*2),0) -> 0 | O11: =L11+M11-N11 -> 939.39394
B12: 6 | C12: =C11+1 -> 46003 | L12: =O11 -> 939.39394 | M12: =IF(K12="w",(H12-1)*I12,-I12) -> 0 | N12: =IF(K12="w",(M12/100*2),0) -> 0 | O12: =L12+M12-N12 -> 939.39394
B13: 7 | C13: =C12+1 -> 46004 | L13: =O12 -> 939.39394 | M13: =IF(K13="w",(H13-1)*I13,-I13) -> 0 | N13: =IF(K13="w",(M13/100*2),0) -> 0 | O13: =L13+M13-N13 -> 939.39394
B14: 8 | C14: =C13+1 -> 46005 | L14: =O13 -> 939.39394 | M14: =IF(K14="w",(H14-1)*I14,-I14) -> 0 | N14: =IF(K14="w",(M14/100*2),0) -> 0 | O14: =L14+M14-N14 -> 939.39394
B15: 9 | C15: =C14+1 -> 46006 | L15: =O14 -> 939.39394 | M15: =IF(K15="w",(H15-1)*I15,-I15) -> 0 | N15: =IF(K15="w",(M15/100*2),0) -> 0 | O15: =L15+M15-N15 -> 939.39394
B16: 10 | C16: =C15+1 -> 46007 | L16: =O15 -> 939.39394 | M16: =IF(K16="w",(H16-1)*I16,-I16) -> 0 | N16: =IF(K16="w",(M16/100*2),0) -> 0 | O16: =L16+M16-N16 -> 939.39394
B17: 11 | C17: =C16+1 -> 46008 | L17: =O16 -> 939.39394 | M17: =IF(K17="w",(H17-1)*I17,-I17) -> 0 | N17: =IF(K17="w",(M17/100*2),0) -> 0 | O17: =L17+M17-N17 -> 939.39394
B18: 12 | C18: =C17+1 -> 46009 | L18: =O17 -> 939.39394 | M18: =IF(K18="w",(H18-1)*I18,-I18) -> 0 | N18: =IF(K18="w",(M18/100*2),0) -> 0 | O18: =L18+M18-N18 -> 939.39394
B19: 13 | C19: =C18+1 -> 46010 | L19: =O18 -> 939.39394 | M19: =IF(K19="w",(H19-1)*I19,-I19) -> 0 | N19: =IF(K19="w",(M19/100*2),0) -> 0 | O19: =L19+M19-N19 -> 939.39394
... B37: 31 | C37: =C36+1 -> 46028 | L37: =O36 -> 939.39394 | M37: =IF(K37="w",(H37-1)*I37,-I37) -> 0 | N37: =IF(K37="w",(M37/100*2),0) -> 0 | O37: =L37+M37-N37 -> 939.39394

Sheet PGX5 - CHART
B2: PRO-GENIE X5 - 'MONTH' 2025: DAILY RESULTS
B4: Day | C4: Profit / Loss (£) | D4: Acc Bank (£)
B5: 0 | C5: 0 | D5: 0
B6: 1 | C6: ='PGX5 - Results'!M7-'PGX5 - Results'!N7 -> -60.606061 | D6: =D5+C6 -> -60.606061
B7: 2 | C7: ='PGX5 - Results'!M8-'PGX5 - Results'!N8 -> 0 | D7: =D6+C7 -> -60.606061
B8: 3 | C8: ='PGX5 - Results'!M9-'PGX5 - Results'!N9 -> 0 | D8: =D7+C8 -> -60.606061
B9: 4 | C9: ='PGX5 - Results'!M10-'PGX5 - Results'!N10 -> 0 | D9: =D8+C9 -> -60.606061
B10: 5 | C10: ='PGX5 - Results'!M11-'PGX5 - Results'!N11 -> 0 | D10: =D9+C10 -> -60.606061
B11: 6 | C11: ='PGX5 - Results'!M12-'PGX5 - Results'!N12 -> 0 | D11: =D10+C11 -> -60.606061
B12: 7 | C12: ='PGX5 - Results'!M13-'PGX5 - Results'!N13 -> 0 | D12: =D11+C12 -> -60.606061
B13: 8 | C13: ='PGX5 - Results'!M14-'PGX5 - Results'!N14 -> 0 | D13: =D12+C13 -> -60.606061
B14: 9 | C14: ='PGX5 - Results'!M15-'PGX5 - Results'!N15 -> 0 | D14: =D13+C14 -> -60.606061
B15: 10 | C15: ='PGX5 - Results'!M16-'PGX5 - Results'!N16 -> 0 | D15: =D14+C15 -> -60.606061
B16: 11 | C16: ='PGX5 - Results'!M17-'PGX5 - Results'!N17 -> 0 | D16: =D15+C16 -> -60.606061
B17: 12 | C17: ='PGX5 - Results'!M18-'PGX5 - Results'!N18 -> 0 | D17: =D16+C17 -> -60.606061
... B36: 31 | C36: ='PGX5 - Results'!M37-'PGX5 - Results'!N37 -> 0 | D36: =D35+C36 -> -60.606061

Sheet PXCS - Results
F2: Results Tracker: KPI Dashboard | G2: Start Bank (Points) | H2: 50 | I2: End Bank (Points) | J2: =L100+50 -> 50 | K2: Total Points Staked | M2: =G100 -> 0
G3: Start Date | H3: ='FTR - Results'!I3 -> 45998 | I3: PnL (Points +/-) | J3: =J2-H2 -> 0 | K3: Return on Investment (ROI) | M3: =J3/M2*100 -> #DIV/0!
G4: Active Days | H4: =TODAY()-H3 -> 0 | I4: Bank Growth (%) | J4: =J3/H2*100 -> 0 | K4: Return on Capital (ROC) | M4: =J3/H2*100 -> 0
B6: Date | C6: Comp | D6: Match | E6: PXCS Prediction | F6: Price | G6: Points | H6: FT Result | I6: W/D/L | J6: Points (+/-) | K6: Comm (2%) | L6: Total Points
B7: =H3 -> 45998 | J7: =IF(I7="w",(F7-1)*G7,-G7) -> 0 | K7: =IF(I7="w",(J7/100*2),0) -> 0 | L7: =J7-K7 -> 0
J8: =IF(I8="w",(F8-1)*G8,-G8) -> 0 | K8: =IF(I8="w",(J8/100*2),0) -> 0 | L8: =J8-K8 -> 0
J9: =IF(I9="w",(F9-1)*G9,-G9) -> 0 | K9: =IF(I9="w",(J9/100*2),0) -> 0 | L9: =J9-K9 -> 0
B10: =B7+1 -> 45999 | J10: =IF(I10="w",(F10-1)*G10,-G10) -> 0 | K10: =IF(I10="w",(J10/100*2),0) -> 0 | L10: =J10-K10 -> 0
J11: =IF(I11="w",(F11-1)*G11,-G11) -> 0 | K11: =IF(I11="w",(J11/100*2),0) -> 0 | L11: =J11-K11 -> 0
J12: =IF(I12="w",(F12-1)*G12,-G12) -> 0 | K12: =IF(I12="w",(J12/100*2),0) -> 0 | L12: =J12-K12 -> 0
B13: =B10+1 -> 46000 | J13: =IF(I13="w",(F13-1)*G13,-G13) -> 0 | K13: =IF(I13="w",(J13/100*2),0) -> 0 | L13: =J13-K13 -> 0
J14: =IF(I14="w",(F14-1)*G14,-G14) -> 0 | K14: =IF(I14="w",(J14/100*2),0) -> 0 | L14: =J14-K14 -> 0
J15: =IF(I15="w",(F15-1)*G15,-G15) -> 0 | K15: =IF(I15="w",(J15/100*2),0) -> 0 | L15: =J15-K15 -> 0
B16: =B13+1 -> 46001 | J16: =IF(I16="w",(F16-1)*G16,-G16) -> 0 | K16: =IF(I16="w",(J16/100*2),0) -> 0 | L16: =J16-K16 -> 0
J17: =IF(I17="w",(F17-1)*G17,-G17) -> 0 | K17: =IF(I17="w",(J17/100*2),0) -> 0 | L17: =J17-K17 -> 0
J18: =IF(I18="w",(F18-1)*G18,-G18) -> 0 | K18: =IF(I18="w",(J18/100*2),0) -> 0 | L18: =J18-K18 -> 0
B19: =B16+1 -> 46002 | J19: =IF(I19="w",(F19-1)*G19,-G19) -> 0 | K19: =IF(I19="w",(J19/100*2),0) -> 0 | L19: =J19-K19 -> 0
J20: =IF(I20="w",(F20-1)*G20,-G20) -> 0 | K20: =IF(I20="w",(J20/100*2),0) -> 0 | L20: =J20-K20 -> 0
J21: =IF(I21="w",(F21-1)*G21,-G21) -> 0 | K21: =IF(I21="w",(J21/100*2),0) -> 0 | L21: =J21-K21 -> 0
B22: =B19+1 -> 46003 | J22: =IF(I22="w",(F22-1)*G22,-G22) -> 0 | K22: =IF(I22="w",(J22/100*2),0) -> 0 | L22: =J22-K22 -> 0
J23: =IF(I23="w",(F23-1)*G23,-G23) -> 0 | K23: =IF(I23="w",(J23/100*2),0) -> 0 | L23: =J23-K23 -> 0
J24: =IF(I24="w",(F24-1)*G24,-G24) -> 0 | K24: =IF(I24="w",(J24/100*2),0) -> 0 | L24: =J24-K24 -> 0
B25: =B22+1 -> 46004 | J25: =IF(I25="w",(F25-1)*G25,-G25) -> 0 | K25: =IF(I25="w",(J25/100*2),0) -> 0 | L25: =J25-K25 -> 0
J26: =IF(I26="w",(F26-1)*G26,-G26) -> 0 | K26: =IF(I26="w",(J26/100*2),0) -> 0 | L26: =J26-K26 -> 0
J27: =IF(I27="w",(F27-1)*G27,-G27) -> 0 | K27: =IF(I27="w",(J27/100*2),0) -> 0 | L27: =J27-K27 -> 0
B28: =B25+1 -> 46005 | J28: =IF(I28="w",(F28-1)*G28,-G28) -> 0 | K28: =IF(I28="w",(J28/100*2),0) -> 0 | L28: =J28-K28 -> 0
J29: =IF(I29="w",(F29-1)*G29,-G29) -> 0 | K29: =IF(I29="w",(J29/100*2),0) -> 0 | L29: =J29-K29 -> 0
J30: =IF(I30="w",(F30-1)*G30,-G30) -> 0 | K30: =IF(I30="w",(J30/100*2),0) -> 0 | L30: =J30-K30 -> 0
B31: =B28+1 -> 46006 | J31: =IF(I31="w",(F31-1)*G31,-G31) -> 0 | K31: =IF(I31="w",(J31/100*2),0) -> 0 | L31: =J31-K31 -> 0
J32: =IF(I32="w",(F32-1)*G32,-G32) -> 0 | K32: =IF(I32="w",(J32/100*2),0) -> 0 | L32: =J32-K32 -> 0
J33: =IF(I33="w",(F33-1)*G33,-G33) -> 0 | K33: =IF(I33="w",(J33/100*2),0) -> 0 | L33: =J33-K33 -> 0
B34: =B31+1 -> 46007 | J34: =IF(I34="w",(F34-1)*G34,-G34) -> 0 | K34: =IF(I34="w",(J34/100*2),0) -> 0 | L34: =J34-K34 -> 0
J35: =IF(I35="w",(F35-1)*G35,-G35) -> 0 | K35: =IF(I35="w",(J35/100*2),0) -> 0 | L35: =J35-K35 -> 0
J36: =IF(I36="w",(F36-1)*G36,-G36) -> 0 | K36: =IF(I36="w",(J36/100*2),0) -> 0 | L36: =J36-K36 -> 0
B37: =B34+1 -> 46008 | J37: =IF(I37="w",(F37-1)*G37,-G37) -> 0 | K37: =IF(I37="w",(J37/100*2),0) -> 0 | L37: =J37-K37 -> 0
J38: =IF(I38="w",(F38-1)*G38,-G38) -> 0 | K38: =IF(I38="w",(J38/100*2),0) -> 0 | L38: =J38-K38 -> 0
J39: =IF(I39="w",(F39-1)*G39,-G39) -> 0 | K39: =IF(I39="w",(J39/100*2),0) -> 0 | L39: =J39-K39 -> 0
B40: =B37+1 -> 46009 | J40: =IF(I40="w",(F40-1)*G40,-G40) -> 0 | K40: =IF(I40="w",(J40/100*2),0) -> 0 | L40: =J40-K40 -> 0
J41: =IF(I41="w",(F41-1)*G41,-G41) -> 0 | K41: =IF(I41="w",(J41/100*2),0) -> 0 | L41: =J41-K41 -> 0
J42: =IF(I42="w",(F42-1)*G42,-G42) -> 0 | K42: =IF(I42="w",(J42/100*2),0) -> 0 | L42: =J42-K42 -> 0
...

Sheet PXCS - CHART
B2: PR0-XCS - 'MONTH' 2025: DAILY RESULTS
B4: Day | C4: Day Points: Profit / Loss | D4: Bank: Total Points
B5: 0 | C5: 0 | D5: 0
B6: 1 | C6: =SUM('PXCS - Results'!L7:L9) -> 0 | D6: =D5+C6 -> 0
B7: 2 | C7: =SUM('PXCS - Results'!L10:L12) -> 0 | D7: =D6+C7 -> 0
B8: 3 | C8: =SUM('PXCS - Results'!L13:L15) -> 0 | D8: =D7+C8 -> 0
B9: 4 | C9: =SUM('PXCS - Results'!L10:L12) -> 0 | D9: =D8+C9 -> 0
B10: 5 | C10: =SUM('PXCS - Results'!L13:L15) -> 0 | D10: =D9+C10 -> 0
B11: 6 | C11: =SUM('PXCS - Results'!L16:L18) -> 0 | D11: =D10+C11 -> 0
B12: 7 | C12: =SUM('PXCS - Results'!L13:L15) -> 0 | D12: =D11+C12 -> 0
B13: 8 | C13: =SUM('PXCS - Results'!L16:L18) -> 0 | D13: =D12+C13 -> 0
B14: 9 | C14: =SUM('PXCS - Results'!L19:L21) -> 0 | D14: =D13+C14 -> 0
B15: 10 | C15: =SUM('PXCS - Results'!L16:L18) -> 0 | D15: =D14+C15 -> 0
B16: 11 | C16: =SUM('PXCS - Results'!L19:L21) -> 0 | D16: =D15+C16 -> 0
B17: 12 | C17: =SUM('PXCS - Results'!L22:L24) -> 0 | D17: =D16+C17 -> 0
B18: 13 | C18: =SUM('PXCS - Results'!L19:L21) -> 0 | D18: =D17+C18 -> 0
B19: 14 | C19: =SUM('PXCS - Results'!L22:L24) -> 0 | D19: =D18+C19 -> 0
B20: 15 | C20: =SUM('PXCS - Results'!L25:L27) -> 0 | D20: =D19+C20 -> 0
B21: 16 | C21: =SUM('PXCS - Results'!L22:L24) -> 0 | D21: =D20+C21 -> 0
B22: 17 | C22: =SUM('PXCS - Results'!L25:L27) -> 0 | D22: =D21+C22 -> 0
B23: 18 | C23: =SUM('PXCS - Results'!L28:L30) -> 0 | D23: =D22+C23 -> 0
B24: 19 | C24: =SUM('PXCS - Results'!L25:L27) -> 0 | D24: =D23+C24 -> 0
B25: 20 | C25: =SUM('PXCS - Results'!L28:L30) -> 0 | D25: =D24+C25 -> 0
B26: 21 | C26: =SUM('PXCS - Results'!L31:L33) -> 0 | D26: =D25+C26 -> 0
B27: 22 | C27: =SUM('PXCS - Results'!L28:L30) -> 0 | D27: =D26+C27 -> 0
B28: 23 | C28: =SUM('PXCS - Results'!L31:L33) -> 0 | D28: =D27+C28 -> 0
B29: 24 | C29: =SUM('PXCS - Results'!L34:L36) -> 0 | D29: =D28+C29 -> 0
B30: 25 | C30: =SUM('PXCS - Results'!L31:L33) -> 0 | D30: =D29+C30 -> 0
B31: 26 | C31: =SUM('PXCS - Results'!L34:L36) -> 0 | D31: =D30+C31 -> 0
B32: 27 | C32: =SUM('PXCS - Results'!L37:L39) -> 0 | D32: =D31+C32 -> 0
B33: 28 | C33: =SUM('PXCS - Results'!L34:L36) -> 0 | D33: =D32+C33 -> 0
B34: 29 | C34: =SUM('PXCS - Results'!L37:L39) -> 0 | D34: =D33+C34 -> 0
B35: 30 | C35: =SUM('PXCS - Results'!L40:L42) -> 0 | D35: =D34+C35 -> 0
